Workbook
Name _ann1: #REF!
Name _tab1: #REF!
Name _var1: #REF!
Name ANN: #REF!
Name dateb: #REF!
Name IS: #REF!

Sheet Home
D6: Tributación por la venta de bienes en el IRPF
D13: Utilice la herramienta
O18: } Acceso a la herramienta
P22: } © copyright
C23: Avenida Diagonal 415, 7.ª planta - 08008 Barcelona - servicio.clientes@indicator.es | P23: } disclaimer

Sheet hoja1
B2: Tributación por la venta de bienes en el IRPF | J2: Ç | K2: i | L2: Å | M2: Æ
B17: } Premisas
B18: Valor de adquisición (incluya todos los costes adicionales a la adquisición): | H18: 0
B19: Valor de transmisión (incluya también los gastos a su cargo derivados de la venta): | H19: 0
B20: Fecha de adquisición: | H20: 33730
B21: Fecha de transmisión: | H21: 45692
B22: Tipo de bien transmitido:
B24: } Activos adquiridos antes del 31.12.1994 que pueden disfrutar de coeficientes de abatimiento
B25: Importe que ya se ha acogido a coeficientes en otras ventas efectuadas a partir de 2015: | H25: 0 | J25: i
B27: Acciones adquiridas antes del 31.12.1994: cotización media del último trimestre de 2005: | H27: 0 | J27: i
B28: (Si no son acciones que coticen en bolsa o si fueron adquiridas después de 1994, deje la casilla en blanco).
B30: } Ganancia patrimonial obtenida
B31: Ganancia patrimonial total: | H31: =+H19-H18 -> 0
B33: } Cálculo del coste fiscal
B34: § Cálculo 1. Días en los que se ha generado la ganancia
B35: Días transcurridos entre la compra y la venta: | H35: =MAX(0,+H21-H20) -> 11962
B36: De los cuales, hasta el 19.01.2006: | H36: =IF(H35=0,0,MAX(0,calculos!L12-H20)) -> 5006
B37: A partir del 20.01.2006: | H37: =+H35-H36 -> 6956
B38: § Cálculo 2. Ganancia generada hasta el 19.01.2006
B39: Ganancia obtenida: | H39: =IF(calculos!K4=2,IF(H19>=H27,IF(calculos!N2="No",0,+H27-H18),hoja1!H31),IF(H35=0,0,H36*H31/H35)) -> 0
B40: Ganancia con derecho a reducción (regla de los 400.000 euros) | H40: =+IF((400000-H25)>=H19,H39,H39*(400000-H25)/H19) -> 0
B41: % Reducción: | H41: =+IF(H40<0,0,1-calculos!H46) -> 0.3333
B42: Reducción aplicable | H42: =+H40*H41 -> 0
B43: Ganancia que tributa: | H43: =+H39-H42 -> 0
B44: § Cálculo 3. Ganancia generada a partir del 20.01.2006
B45: Ganancia que tributa: | H45: =+H31-H39 -> 0
B47: Ganancia total que tributa | H47: =+IF(H41=0,H31,+H45+H43) -> 0 | J47: =IF(H21>39082,0.18,0.15) -> 0.18
B48: Coste total IRPF ganancia | H48: =+IF(H21>calculos!J7,calculos!I7,IF(H21>calculos!J6,calculos!I6,IF(H21>calculos!J5,calculos!I5,IF(H21>calculos!J4,calculos!I4,calculos!I3)))) -> 0 | J48: i

Sheet calculos
A2: 1 | I2: coste fiscal | K2: regla acciones que cotizan IP 2005 | N2: =+IF(N3>hoja1!H20,IF(calculos!K4=2,"Sí","No"),"No") -> No
F3: year | H3: venta en 2015 | I3: =+IF(hoja1!H47<0,0,IF(+hoja1!H47<=6000,0.195*hoja1!H47,IF(hoja1!H47<=50000,6000*0.195+(hoja1!H47-6000)*0.215,6000*0.195+44000*0.215+(hoja1!H47-50000)*0.235))) -> 0 | N3: 34699
D4: Table for calcullations | F4: =+YEAR(hoja1!H21) -> 2025 | H4: venta entre 2016 y 2020 | I4: =+IF(hoja1!H47<0,0,IF(hoja1!H47<=6000,0.19*hoja1!H47,IF(hoja1!H47<=50000,6000*0.19+(hoja1!H47-6000)*0.21,6000*0.19+44000*0.21+(hoja1!H47-50000)*0.23))) -> 0 | J4: 42369 | K4: 1
H5: venta a partir 2021 | I5: =+IF(hoja1!H47<0,0,IF(hoja1!H47<=200000,I4,+I4+(hoja1!H47-200000)*0.03)) -> 0 | J5: 44196 | Q5: datos a cambiar cada año
H6: venta a partir 2023 | I6: =+calc2023!G13 -> 0 | J6: 44926 | K6: 1 | L6: Inmuebles | S6: 1994 y anteriores | T6: 1.3299
H7: venta a partir 2025 | I7: =+I6+IF(hoja1!H47>300000,+(hoja1!H47-300000)*0.02,0) -> 0 | J7: 45657 | K7: 2 | L7: Acciones con cotización oficial
K8: 3 | L8: Otros bienes | S8: 1995 | T8: 1.405
D9: 1 | E9: 34699 | F9: 1 | G9: =IF(calculos!K4=1,IF(hoja1!H20>=D9,IF(hoja1!H20<=E9,hoja1!H18*F9,0))) -> 0 | N9: 1 | O9: 34699 | Q9: 1.3299 | S9: 1996 | T9: 1.3569
D10: 34700 | E10: 35064 | F10: 1 | G10: =IF(calculos!K4=1,IF(hoja1!H20>=D10,IF(hoja1!H20<=E10,hoja1!H18*F10,0))) -> FALSE | N10: 34700 | O10: 35064 | Q10: 1.405 | S10: 1997 | T10: 1.3299
D11: 35065 | E11: 35430 | F11: 1 | G11: =IF(calculos!K4=1,IF(hoja1!H20>=D11,IF(hoja1!H20<=E11,hoja1!H18*F11,0))) -> FALSE | N11: 35065 | O11: 35430 | Q11: 1.3569 | S11: 1998 | T11: 1.3041
D12: 35431 | E12: 35795 | F12: 1 | G12: =IF(calculos!K4=1,IF(hoja1!H20>=D12,IF(hoja1!H20<=E12,hoja1!H18*F12,0))) -> FALSE | L12: 38736 | N12: 35431 | O12: 35795 | Q12: 1.3299 | S12: 1999 | T12: 1.2807
D13: 35796 | E13: 36160 | F13: 1 | G13: =IF(calculos!K4=1,IF(hoja1!H20>=D13,IF(hoja1!H20<=E13,hoja1!H18*F13,0))) -> FALSE | L13: 38737 | N13: 35796 | O13: 36160 | Q13: 1.3041 | S13: 2000 | T13: 1.256
D14: 36161 | E14: 36525 | F14: 1 | G14: =IF(calculos!K4=1,IF(hoja1!H20>=D14,IF(hoja1!H20<=E14,hoja1!H18*F14,0))) -> FALSE | N14: 36161 | O14: 36525 | Q14: 1.2807 | S14: 2001 | T14: 1.2314
D15: 36526 | E15: 36891 | F15: 1 | G15: =IF(calculos!K4=1,IF(hoja1!H20>=D15,IF(hoja1!H20<=E15,hoja1!H18*F15,0))) -> FALSE | N15: 36526 | O15: 36891 | Q15: 1.256 | S15: 2002 | T15: 1.2072
D16: 36892 | E16: 37256 | F16: 1 | G16: =IF(calculos!K4=1,IF(hoja1!H20>=D16,IF(hoja1!H20<=E16,hoja1!H18*F16,0))) -> FALSE | N16: 36892 | O16: 37256 | Q16: 1.2314 | S16: 2003 | T16: 1.1836
D17: 37257 | E17: 37621 | F17: 1 | G17: =IF(calculos!K4=1,IF(hoja1!H20>=D17,IF(hoja1!H20<=E17,hoja1!H18*F17,0))) -> FALSE | N17: 37257 | O17: 37621 | Q17: 1.2072 | S17: 2004 | T17: 1.1604
D18: 37622 | E18: 37986 | F18: 1 | G18: =IF(calculos!K4=1,IF(hoja1!H20>=D18,IF(hoja1!H20<=E18,hoja1!H18*F18,0))) -> FALSE | N18: 37622 | O18: 37986 | Q18: 1.1836 | S18: 2005 | T18: 1.1376
D19: 37987 | E19: 38352 | F19: 1 | G19: =IF(calculos!K4=1,IF(hoja1!H20>=D19,IF(hoja1!H20<=E19,hoja1!H18*F19,0))) -> FALSE | N19: 37987 | O19: 38352 | Q19: 1.1604 | S19: 2006 | T19: 1.1152
D20: 38353 | E20: 38717 | F20: 1 | G20: =IF(calculos!K4=1,IF(hoja1!H20>=D20,IF(hoja1!H20<=E20,hoja1!H18*F20,0))) -> FALSE | N20: 38353 | O20: 38717 | Q20: 1.1376 | S20: 2007 | T20: 1.0934
D21: 38718 | E21: 39082 | F21: 1 | G21: =IF(calculos!K4=1,IF(hoja1!H20>=D21,IF(hoja1!H20<=E21,hoja1!H18*F21,0))) -> FALSE | N21: 38718 | O21: 39082 | Q21: 1.1152 | S21: 2008 | T21: 1.072
D22: 39083 | E22: 39447 | F22: 1 | G22: =IF(+$K$4=1,IF(hoja1!$H$20>=D22,IF(hoja1!$H$20<=E22,hoja1!$H$18*F22,0))) -> FALSE | N22: 39083 | O22: 39447 | Q22: 1.0934 | S22: 2009 | T22: 1.051
D23: 39448 | E23: 39813 | F23: 1 | G23: =IF(+$K$4=1,IF(hoja1!$H$20>=D23,IF(hoja1!$H$20<=E23,hoja1!$H$18*F23,0))) -> FALSE | N23: 39448 | O23: 39813 | Q23: 1.072 | S23: 2010 | T23: 1.0406
D24: 39814 | E24: 40178 | F24: 1 | G24: =IF(+$K$4=1,IF(hoja1!$H$20>=D24,IF(hoja1!$H$20<=E24,hoja1!$H$18*F24,0))) -> FALSE | N24: 39814 | O24: 40178 | Q24: 1.051 | S24: 2011 | T24: 1.0303
D25: 40179 | E25: 40543 | F25: 1 | G25: =IF(+$K$4=1,IF(hoja1!$H$20>=D25,IF(hoja1!$H$20<=E25,hoja1!$H$18*F25,0))) -> FALSE | N25: 40179 | O25: 40543 | Q25: 1.0406 | S25: 2012 | T25: 1.0201
D26: 40544 | E26: 40908 | F26: 1 | G26: =IF(+$K$4=1,IF(hoja1!$H$20>=D26,IF(hoja1!$H$20<=E26,hoja1!$H$18*F26,0))) -> FALSE | N26: 40544 | O26: 40908 | Q26: 1.0303 | S26: 2013 | T26: 1.01
D27: 40909 | E27: 41274 | F27: 1 | G27: =IF(+$K$4=1,IF(hoja1!$H$20>=D27,IF(hoja1!$H$20<=E27,hoja1!$H$18*F27,0))) -> FALSE | N27: 40909 | O27: 41274 | Q27: 1.0201 | S27: 2014 | T27: 1
D28: 41275 | E28: 41639 | F28: 1 | G28: =IF(+$K$4=1,IF(hoja1!$H$20>=D28,IF(hoja1!$H$20<=E28,hoja1!$H$18*F28,0))) -> FALSE | N28: 41275 | O28: 41639 | Q28: 1.01
D29: 41640 | E29: 42004 | F29: =+Q29 -> 1 | G29: =IF(+$K$4=1,IF(hoja1!$H$20>=D29,IF(hoja1!$H$20<=E29,hoja1!$H$18*F29,0))) -> FALSE | N29: 41640 | O29: 42004 | Q29: 1
G30: =SUM(G9:G29) -> 0
D32: 1 | E32: 2 | F32: 3
B33: 34699 | C33: 55152 | D33: 1 | E33: 1 | F33: 1 | G33: =IF(calculos!K4=1,IF(hoja1!H20>=B33,IF(hoja1!H20<=C33,D33,0))) -> FALSE | H33: =IF(calculos!K4=2,IF(hoja1!H20>=B33,IF(hoja1!H20<=C33,E33,0))) -> FALSE | I33: =IF(calculos!K4=3,IF(hoja1!H20>=B33,IF(hoja1!H20<=C33,F33,0))) -> FALSE
B34: 34334 | C34: 34698 | D34: 0.8889 | E34: 0.75 | F34: 0.8572 | G34: =IF(calculos!K4=1,IF(hoja1!H20>=B34,IF(hoja1!H20<=C34,D34,0))) -> FALSE | H34: =IF(calculos!K4=2,IF(hoja1!H20>=B34,IF(hoja1!H20<=C34,E34,0))) -> FALSE | I34: =IF(calculos!K4=3,IF(hoja1!H20>=B34,IF(hoja1!H20<=C34,F34,0))) -> FALSE
B35: 33969 | C35: 34333 | D35: 0.7778 | E35: 0.5 | F35: 0.7144 | G35: =IF(calculos!K4=1,IF(hoja1!H20>=B35,IF(hoja1!H20<=C35,D35,0))) -> FALSE | H35: =IF(calculos!K4=2,IF(hoja1!H20>=B35,IF(hoja1!H20<=C35,E35,0))) -> FALSE | I35: =IF(calculos!K4=3,IF(hoja1!H20>=B35,IF(hoja1!H20<=C35,F35,0))) -> FALSE
B36: 33603 | C36: 33968 | D36: 0.6667 | E36: 0.25 | F36: 0.5716 | G36: =IF(calculos!K4=1,IF(hoja1!H20>=B36,IF(hoja1!H20<=C36,D36,0))) -> 0.6667 | H36: =IF(calculos!K4=2,IF(hoja1!H20>=B36,IF(hoja1!H20<=C36,E36,0))) -> FALSE | I36: =IF(calculos!K4=3,IF(hoja1!H20>=B36,IF(hoja1!H20<=C36,F36,0))) -> FALSE
B37: 33238 | C37: 33602 | D37: 0.5556 | E37: 0 | F37: 0.4288 | G37: =IF(calculos!K4=1,IF(hoja1!H20>=B37,IF(hoja1!H20<=C37,D37,0))) -> 0 | H37: =IF(calculos!K4=2,IF(hoja1!H20>=B37,IF(hoja1!H20<=C37,E37,0))) -> FALSE | I37: =IF(calculos!K4=3,IF(hoja1!H20>=B37,IF(hoja1!H20<=C37,F37,0))) -> FALSE
B38: 32873 | C38: 33237 | D38: 0.4445 | E38: 0 | F38: 0.286 | G38: =IF(calculos!K4=1,IF(hoja1!H20>=B38,IF(hoja1!H20<=C38,D38,0))) -> 0 | H38: =IF(calculos!K4=2,IF(hoja1!H20>=B38,IF(hoja1!H20<=C38,E38,0))) -> FALSE | I38: =IF(calculos!K4=3,IF(hoja1!H20>=B38,IF(hoja1!H20<=C38,F38,0))) -> FALSE
B39: 32508 | C39: 32872 | D39: 0.3334 | E39: 0 | F39: 0.1432 | G39: =IF(calculos!K4=1,IF(hoja1!H20>=B39,IF(hoja1!H20<=C39,D39,0))) -> 0 | H39: =IF(calculos!K4=2,IF(hoja1!H20>=B39,IF(hoja1!H20<=C39,E39,0))) -> FALSE | I39: =IF(calculos!K4=3,IF(hoja1!H20>=B39,IF(hoja1!H20<=C39,F39,0))) -> FALSE
B40: 32142 | C40: 32507 | D40: 0.2223 | E40: 0 | F40: 0 | G40: =IF(calculos!K4=1,IF(hoja1!H20>=B40,IF(hoja1!H20<=C40,D40,0))) -> 0 | H40: =IF(calculos!K4=2,IF(hoja1!H20>=B40,IF(hoja1!H20<=C40,E40,0))) -> FALSE | I40: =IF(calculos!K4=3,IF(hoja1!H20>=B40,IF(hoja1!H20<=C40,F40,0))) -> FALSE
B41: 31777 | C41: 32141 | D41: 0.1112 | E41: 0 | F41: 0 | G41: =IF(calculos!K4=1,IF(hoja1!H20>=B41,IF(hoja1!H20<=C41,D41,0))) -> 0 | H41: =IF(calculos!K4=2,IF(hoja1!H20>=B41,IF(hoja1!H20<=C41,E41,0))) -> FALSE | I41: =IF(calculos!K4=3,IF(hoja1!H20>=B41,IF(hoja1!H20<=C41,F41,0))) -> FALSE
B42: 366 | C42: 31776 | D42: 0 | E42: 0 | F42: 0 | G42: =IF(calculos!K4=1,IF(hoja1!H20>=B42,IF(hoja1!H20<=C42,D42,0))) -> 0 | H42: =IF(calculos!K4=2,IF(hoja1!H20>=B42,IF(hoja1!H20<=C42,E42,0))) -> FALSE | I42: =IF(calculos!K4=3,IF(hoja1!H20>=B42,IF(hoja1!H20<=C42,F42,0))) -> FALSE
...

Sheet calc2023
B1: Calculo base ahorro 2023
B3: Total base de cálculo | C3: =+hoja1!H47 -> 0
C4: Hasta | D4: Cuota | E4: Resto | F4: Tipo
B6: =IF(+$C$3>=C6,IF($C$3<C7,$C$3,0),0) -> 0 | C6: 0 | D6: 0 | E6: 6000 | F6: 0.19 | G6: =IF(B6=0,0,+D6+((B6-C6)*F6)) -> 0
B7: =IF(+$C$3>=C7,IF($C$3<C8,$C$3,0),0) -> 0 | C7: 6000 | D7: =+E6*F6+D6 -> 1140 | E7: =+C8-C7 -> 44000 | F7: 0.21 | G7: =IF(B7=0,0,+D7+((B7-C7)*F7)) -> 0
B8: =IF(+$C$3>=C8,IF($C$3<C9,$C$3,0),0) -> 0 | C8: 50000 | D8: =+E7*F7+D7 -> 10380 | E8: =+C9-C8 -> 150000 | F8: 0.23 | G8: =IF(B8=0,0,+D8+((B8-C8)*F8)) -> 0
B9: =IF(+$C$3>=C9,IF($C$3<C10,$C$3,0),0) -> 0 | C9: 200000 | D9: =+E8*F8+D8 -> 44880 | E9: =+C10-C9 -> 100000 | F9: 0.27 | G9: =IF(B9=0,0,+D9+((B9-C9)*F9)) -> 0
B10: =IF(+$C$3>=C10,IF($C$3<C11,$C$3,0),0) -> 0 | C10: 300000 | D10: =+E9*F9+D9 -> 71880 | E10: =+C11-C10 -> 4999999700000 | F10: 0.28 | G10: =IF(B10=0,0,+D10+((B10-C10)*F10)) -> 0
B11: =IF(+$C$3>=C11,IF($C$3<C12,$C$3,0),0) -> 0 | C11: 5000000000000 | G11: =IF(B11=0,0,+D11+((B11-C11)*F11)) -> 0
G13: =SUM(G6:G12) -> 0
