Workbook
Name ExternalData_1: '24'!$B$1

Sheet Macro1

Sheet Home
D7: Controle las vacaciones de su plantilla
D13: Utilice la herramienta
O18: } Acceso a la herramienta
P22: } © copyright
C23: Avenida Diagonal 415, 7ª planta - 08008 Barcelona - servicio.clientes@indicator.es | P23: } disclaimer

Sheet resumen
B2: Días de vacaciones 2026 | L2: Ç | M2: i | N2: Å | O2: Æ
S3: 46387
B4: } Premisas | S4: 42735
B5: Empresa: | E5: INDICATOR
B6: Días vacaciones por año trabajado: | J6: 30
B7: Número de trabajadores: | J7: 25
B10: } Resumen | E10: =IF(TODAY()>=42735,"A fecha de hoy "&TEXT(TODAY(),"dd.mm.aaaa")&".","A fecha de "&TEXT(42735,"dd.mm.aaaa")&".") -> A fecha de hoy 15.12.2025. | H10: A fecha de 31.12.2026
B11: Nombre | C11: Fecha alta | D11: Días pdtes. | E11: Deven-gados | F11: Realizados | G11: Saldo | H11: Deven-gados | I11: Realizados | J11: Saldo | L11: Pulse Æ para ver la ficha
B12: 1 | E12: =+'1'!J$6 -> 0 | F12: =+'1'!N$6 -> 0 | G12: =+'1'!R$6 -> 0 | H12: =+'1'!V$6 -> 30 | I12: =+'1'!Z$6 -> 0 | J12: =+'1'!AD$6 -> 30 | L12: =IF($J$7<A12,"","Æ") -> Æ | R12: 1
B13: 2 | E13: =+'2'!J$6 -> 0 | F13: =+'2'!N$6 -> 0 | G13: =+'2'!R$6 -> 0 | H13: =+'2'!V$6 -> 30 | I13: =+'2'!Z$6 -> 0 | J13: =+'2'!AD$6 -> 30 | L13: Æ | R13: 2
B14: 3 | E14: =+'3'!J$6 -> 0 | F14: =+'3'!N$6 -> 0 | G14: =+'3'!R$6 -> 0 | H14: =+'3'!V$6 -> 30 | I14: =+'3'!Z$6 -> 0 | J14: =+'3'!AD$6 -> 30 | L14: Æ | R14: 3
B15: 4 | E15: =+'4'!J$6 -> 0 | F15: =+'4'!N$6 -> 0 | G15: =+'4'!R$6 -> 0 | H15: =+'4'!V$6 -> 30 | I15: =+'4'!Z$6 -> 0 | J15: =+'4'!AD$6 -> 30 | L15: Æ | R15: 4
B16: 5 | E16: =+'5'!J$6 -> 0 | F16: =+'5'!N$6 -> 0 | G16: =+'5'!R$6 -> 0 | H16: =+'5'!V$6 -> 30 | I16: =+'5'!Z$6 -> 0 | J16: =+'5'!AD$6 -> 30 | L16: Æ | R16: 5
B17: 6 | E17: =+'6'!J$6 -> 0 | F17: =+'6'!N$6 -> 0 | G17: =+'6'!R$6 -> 0 | H17: =+'6'!V$6 -> 30 | I17: =+'6'!Z$6 -> 0 | J17: =+'6'!AD$6 -> 30 | L17: Æ | R17: 6
B18: 7 | E18: =+'7'!J$6 -> 0 | F18: =+'7'!N$6 -> 0 | G18: =+'7'!R$6 -> 0 | H18: =+'7'!V$6 -> 30 | I18: =+'7'!Z$6 -> 0 | J18: =+'7'!AD$6 -> 30 | L18: Æ | R18: 7
B19: 8 | E19: =+'8'!J$6 -> 0 | F19: =+'8'!N$6 -> 0 | G19: =+'8'!R$6 -> 0 | H19: =+'8'!V$6 -> 30 | I19: =+'8'!Z$6 -> 0 | J19: =+'8'!AD$6 -> 30 | L19: Æ | R19: 8
B20: 9 | E20: =+'9'!J$6 -> 0 | F20: =+'9'!N$6 -> 0 | G20: =+'9'!R$6 -> 0 | H20: =+'9'!V$6 -> 30 | I20: =+'9'!Z$6 -> 0 | J20: =+'9'!AD$6 -> 30 | L20: Æ | R20: 9
B21: 10 | E21: =+'10'!J$6 -> 0 | F21: =+'10'!N$6 -> 0 | G21: =+'10'!R$6 -> 0 | H21: =+'10'!V$6 -> 30 | I21: =+'10'!Z$6 -> 0 | J21: =+'10'!AD$6 -> 30 | L21: Æ | R21: 10
B22: 11 | E22: =+'11'!J$6 -> 0 | F22: =+'11'!N$6 -> 0 | G22: =+'11'!R$6 -> 0 | H22: =+'11'!V$6 -> 30 | I22: =+'11'!Z$6 -> 0 | J22: =+'11'!AD$6 -> 30 | L22: Æ | R22: 11
B23: 12 | E23: =+'12'!J$6 -> 0 | F23: =+'12'!N$6 -> 0 | G23: =+'12'!R$6 -> 0 | H23: =+'12'!V$6 -> 30 | I23: =+'12'!Z$6 -> 0 | J23: =+'12'!AD$6 -> 30 | L23: Æ | R23: 12
B24: 13 | E24: =+'13'!J$6 -> 0 | F24: =+'13'!N$6 -> 0 | G24: =+'13'!R$6 -> 0 | H24: =+'13'!V$6 -> 30 | I24: =+'13'!Z$6 -> 0 | J24: =+'13'!AD$6 -> 30 | L24: Æ | R24: 13
B25: 14 | E25: =+'14'!J$6 -> 0 | F25: =+'14'!N$6 -> 0 | G25: =+'14'!R$6 -> 0 | H25: =+'14'!V$6 -> 30 | I25: =+'14'!Z$6 -> 0 | J25: =+'14'!AD$6 -> 30 | L25: Æ | R25: 14
B26: 15 | E26: =+'15'!J$6 -> 0 | F26: =+'15'!N$6 -> 0 | G26: =+'15'!R$6 -> 0 | H26: =+'15'!V$6 -> 30 | I26: =+'15'!Z$6 -> 0 | J26: =+'15'!AD$6 -> 30 | L26: Æ | R26: 15
B27: 16 | E27: =+'16'!J$6 -> 0 | F27: =+'16'!N$6 -> 0 | G27: =+'16'!R$6 -> 0 | H27: =+'16'!V$6 -> 30 | I27: =+'16'!Z$6 -> 0 | J27: =+'16'!AD$6 -> 30 | L27: Æ | R27: 16
B28: 17 | E28: =+'17'!J$6 -> 0 | F28: =+'17'!N$6 -> 0 | G28: =+'17'!R$6 -> 0 | H28: =+'17'!V$6 -> 30 | I28: =+'17'!Z$6 -> 0 | J28: =+'17'!AD$6 -> 30 | L28: Æ | R28: 17
B29: 18 | E29: =+'18'!J$6 -> 0 | F29: =+'18'!N$6 -> 0 | G29: =+'18'!R$6 -> 0 | H29: =+'18'!V$6 -> 30 | I29: =+'18'!Z$6 -> 0 | J29: =+'18'!AD$6 -> 30 | L29: Æ | R29: 18
B30: 19 | E30: =+'19'!J$6 -> 0 | F30: =+'19'!N$6 -> 0 | G30: =+'19'!R$6 -> 0 | H30: =+'19'!V$6 -> 30 | I30: =+'19'!Z$6 -> 0 | J30: =+'19'!AD$6 -> 30 | L30: Æ | R30: 19
B31: 20 | E31: =+'20'!J$6 -> 0 | F31: =+'20'!N$6 -> 0 | G31: =+'20'!R$6 -> 0 | H31: =+'20'!V$6 -> 30 | I31: =+'20'!Z$6 -> 0 | J31: =+'20'!AD$6 -> 30 | L31: Æ | R31: 20
B32: 21 | E32: =+'21'!J$6 -> 0 | F32: =+'21'!N$6 -> 0 | G32: =+'21'!R$6 -> 0 | H32: =+'21'!V$6 -> 30 | I32: =+'21'!Z$6 -> 0 | J32: =+'21'!AD$6 -> 30 | L32: Æ | R32: 21
B33: 22 | E33: =+'22'!J$6 -> 0 | F33: =+'22'!N$6 -> 0 | G33: =+'22'!R$6 -> 0 | H33: =+'22'!V$6 -> 30 | I33: =+'22'!Z$6 -> 0 | J33: =+'22'!AD$6 -> 30 | L33: Æ | R33: 22
B34: 23 | E34: =+'23'!J$6 -> 0 | F34: =+'23'!N$6 -> 0 | G34: =+'23'!R$6 -> 0 | H34: =+'23'!V$6 -> 30 | I34: =+'23'!Z$6 -> 0 | J34: =+'23'!AD$6 -> 30 | L34: Æ | R34: 23
B35: 24 | E35: =+'24'!J$6 -> 0 | F35: =+'24'!N$6 -> 0 | G35: =+'24'!R$6 -> 0 | H35: =+'24'!V$6 -> 30 | I35: =+'24'!Z$6 -> 0 | J35: =+'24'!AD$6 -> 30 | L35: Æ | R35: 24
B36: 25 | E36: =+'25'!J$6 -> 0 | F36: =+'25'!N$6 -> 0 | G36: =+'25'!R$6 -> 0 | H36: =+'25'!V$6 -> 30 | I36: =+'25'!Z$6 -> 0 | J36: =+'25'!AD$6 -> 30 | L36: Æ | R36: 25

Sheet 1
B2: ="Hoja de vacaciones 2026: "&resumen!B12&"" -> Hoja de vacaciones 2026: 1 | X2: =+resumen!E5 -> INDICATOR | AI2: Ç
AF3: 46022 | AG3: 46387 | AL3: Máximo días permitidos
J4: =+resumen!E10 -> A fecha de hoy 15.12.2025. | V4: =+resumen!H10 -> A fecha de 31.12.2026 | AL4: =+V6+G6 -> 30 | AR4: 41274
B5: Vacaciones anuales | D5: Fecha alta | G5: Días pdtes. | J5: Devengados | N5: Realizados | R5: Saldo | V5: Devengados | Z5: Realizados | AD5: Saldo | AL5: =+AL4 -> 30
B6: =+resumen!J6 -> 30 | D6: =+resumen!C12 -> 0 | G6: =+resumen!D12 -> 0 | J6: =MAX(0,(TODAY()-MAX(AF3,D6))/365*B6) -> 0 | N6: =SUM(AP17:AP28) -> 0 | R6: =+G6+J6-N6 -> 0 | V6: =(AG3-MAX(AF3,D6))/365*B6 -> 30 | Z6: =SUM(C17:AG28) -> 0 | AD6: =+V6-Z6+G6 -> 30 | AL6: =+AL5 -> 30
AL7: =+AL6 -> 30
AL8: =+AL7 -> 30 | AU8: 41274
AL9: =+AL8 -> 30
AL10: =+AL9 -> 30
AL11: =+AL10 -> 30
AL12: =+AL11 -> 30
AL13: =+AL12 -> 30
AL14: =+AL13 -> 30
AL15: =+AL14 -> 30
B16: 2026 | C16: 1 | D16: 2 | E16: 3 | F16: 4 | G16: 5 | H16: 6 | I16: 7 | J16: 8 | K16: 9 | L16: 10 | M16: 11 | N16: 12 | O16: 13 | P16: 14 | Q16: 15 | R16: 16 | S16: 17 | T16: 18 | U16: 19 | V16: 20 | W16: 21 | X16: 22 | Y16: 23 | Z16: 24 | AA16: 25 | AB16: 26 | AC16: 27 | AD16: 28 | AE16: 29 | AF16: 30 | AG16: 31 | AI16: i | AK16: =MAX(41274,TODAY()) -> 46006 | AL16: =DAY(AK16) -> 15 | AP16: =MONTH(AK16) -> 12
B17: Enero | AK17: =SUM(C17:AF17) -> 0 | AL17: =+AK17 -> 0 | AM17: 1 | AP17: =IF($AP$16>AM17,AK17,IF($AP$16=AM17,SUM(C17:INDIRECT(ADDRESS(AR17,$AL$16+2,4,1),1)),0)) -> 0 | AR17: =ROW(AM17) -> 17
B18: Febrero | AK18: =SUM(C18:AF18) -> 0 | AL18: =+AK18+AL17 -> 0 | AM18: 2 | AP18: =IF($AP$16>AM18,AK18,IF($AP$16=AM18,SUM(#REF!:INDIRECT(ADDRESS(AR18,$AL$16+2,4,1),1)),0)) -> 0 | AR18: =ROW(AM18) -> 18
B19: Marzo | AK19: =SUM(C19:AF19) -> 0 | AL19: =+AK19+AL18 -> 0 | AM19: 3 | AP19: =IF($AP$16>AM19,AK19,IF($AP$16=AM19,SUM(#REF!:INDIRECT(ADDRESS(AR19,$AL$16+2,4,1),1)),0)) -> 0 | AR19: =ROW(AM19) -> 19
B20: Abril | AK20: =SUM(C20:AF20) -> 0 | AL20: =+AK20+AL19 -> 0 | AM20: 4 | AP20: =IF($AP$16>AM20,AK20,IF($AP$16=AM20,SUM(C20:INDIRECT(ADDRESS(AR20,$AL$16+2,4,1),1)),0)) -> 0 | AR20: =ROW(AM20) -> 20
B21: Mayo | AK21: =SUM(C21:AF21) -> 0 | AL21: =+AK21+AL20 -> 0 | AM21: 5 | AP21: =IF($AP$16>AM21,AK21,IF($AP$16=AM21,SUM(C21:INDIRECT(ADDRESS(AR21,$AL$16+2,4,1),1)),0)) -> 0 | AR21: =ROW(AM21) -> 21
B22: Junio | AK22: =SUM(C22:AF22) -> 0 | AL22: =+AK22+AL21 -> 0 | AM22: 6 | AP22: =IF($AP$16>AM22,AK22,IF($AP$16=AM22,SUM(C22:INDIRECT(ADDRESS(AR22,$AL$16+2,4,1),1)),0)) -> 0 | AR22: =ROW(AM22) -> 22
B23: Julio | AK23: =SUM(C23:AF23) -> 0 | AL23: =+AK23+AL22 -> 0 | AM23: 7 | AP23: =IF($AP$16>AM23,AK23,IF($AP$16=AM23,SUM(C23:INDIRECT(ADDRESS(AR23,$AL$16+2,4,1),1)),0)) -> 0 | AR23: =ROW(AM23) -> 23
B24: Agosto | AK24: =SUM(C24:AF24) -> 0 | AL24: =+AK24+AL23 -> 0 | AM24: 8 | AP24: =IF($AP$16>AM24,AK24,IF($AP$16=AM24,SUM(#REF!:INDIRECT(ADDRESS(AR24,$AL$16+2,4,1),1)),0)) -> 0 | AR24: =ROW(AM24) -> 24
B25: Septiembre | AK25: =SUM(C25:AF25) -> 0 | AL25: =+AK25+AL24 -> 0 | AM25: 9 | AP25: =IF($AP$16>AM25,AK25,IF($AP$16=AM25,SUM(C25:INDIRECT(ADDRESS(AR25,$AL$16+2,4,1),1)),0)) -> 0 | AR25: =ROW(AM25) -> 25
B26: Octubre | AK26: =SUM(C26:AF26) -> 0 | AL26: =+AK26+AL25 -> 0 | AM26: 10 | AP26: =IF($AP$16>AM26,AK26,IF($AP$16=AM26,SUM(C26:INDIRECT(ADDRESS(AR26,$AL$16+2,4,1),1)),0)) -> 0 | AR26: =ROW(AM26) -> 26
B27: Noviembre | AK27: =SUM(C27:AF27) -> 0 | AL27: =+AK27+AL26 -> 0 | AM27: 11 | AP27: =IF($AP$16>AM27,AK27,IF($AP$16=AM27,SUM(#REF!:INDIRECT(ADDRESS(AR27,$AL$16+2,4,1),1)),0)) -> 0 | AR27: =ROW(AM27) -> 27
B28: Diciembre | AI28: sábado | AJ28: domingo | AK28: =SUM(C28:AF28) -> 0 | AL28: =+AK28+AL27 -> 0 | AM28: 12 | AP28: =IF($AP$16>AM28,AK28,IF($AP$16=AM28,SUM(C28:INDIRECT(ADDRESS(AR28,$AL$16+2,4,1),1)),0)) -> 0 | AR28: =ROW(AM28) -> 28

Sheet 2
B2: ="Hoja de vacaciones 2026: "&resumen!B13&"" -> Hoja de vacaciones 2026: 2 | X2: =+resumen!E5 -> INDICATOR | AI2: Ç
AF3: 46022 | AG3: 46387 | AL3: Máximo días permitidos
J4: =+resumen!E10 -> A fecha de hoy 15.12.2025. | V4: =+resumen!H10 -> A fecha de 31.12.2026 | AL4: =+V6+G6 -> 30
B5: Vacaciones anuales | D5: Fecha alta | G5: Días pdtes. | J5: Devengados | N5: Realizados | R5: Saldo | V5: Devengados | Z5: Realizados | AD5: Saldo | AL5: =+AL4 -> 30
B6: =+resumen!J6 -> 30 | D6: =+resumen!C13 -> 0 | G6: =+resumen!D13 -> 0 | J6: =MAX(0,(TODAY()-MAX(AF3,D6))/365*B6) -> 0 | N6: =SUM(AP17:AP28) -> 0 | R6: =+G6+J6-N6 -> 0 | V6: =(AG3-MAX(AF3,D6))/365*B6 -> 30 | Z6: =SUM(C17:AG28) -> 0 | AD6: =+V6-Z6+G6 -> 30 | AL6: =+AL5 -> 30
AL7: =+AL6 -> 30
AL8: =+AL7 -> 30
AL9: =+AL8 -> 30
AL10: =+AL9 -> 30
AL11: =+AL10 -> 30
AL12: =+AL11 -> 30
AL13: =+AL12 -> 30
AL14: =+AL13 -> 30
AL15: =+AL14 -> 30
B16: 2026 | C16: 1 | D16: 2 | E16: 3 | F16: 4 | G16: 5 | H16: 6 | I16: 7 | J16: 8 | K16: 9 | L16: 10 | M16: 11 | N16: 12 | O16: 13 | P16: 14 | Q16: 15 | R16: 16 | S16: 17 | T16: 18 | U16: 19 | V16: 20 | W16: 21 | X16: 22 | Y16: 23 | Z16: 24 | AA16: 25 | AB16: 26 | AC16: 27 | AD16: 28 | AE16: 29 | AF16: 30 | AG16: 31 | AI16: i | AK16: =MAX(41274,TODAY()) -> 46006 | AL16: =DAY(AK16) -> 15 | AP16: =MONTH(AK16) -> 12
B17: Enero | AK17: =SUM(C17:AG17) -> 0 | AL17: =+AK17 -> 0 | AM17: 1 | AP17: =IF($AP$16>AM17,AK17,IF($AP$16=AM17,SUM(C17:INDIRECT(ADDRESS(AR17,$AL$16+2,4,1),1)),0)) -> 0 | AR17: =ROW(AM17) -> 17
B18: Febrero | AK18: =SUM(C18:AG18) -> 0 | AL18: =+AK18+AL17 -> 0 | AM18: 2 | AP18: =IF($AP$16>AM18,AK18,IF($AP$16=AM18,SUM(C18:INDIRECT(ADDRESS(AR18,$AL$16+2,4,1),1)),0)) -> 0 | AR18: =ROW(AM18) -> 18
B19: Marzo | AK19: =SUM(C19:AG19) -> 0 | AL19: =+AK19+AL18 -> 0 | AM19: 3 | AP19: =IF($AP$16>AM19,AK19,IF($AP$16=AM19,SUM(C19:INDIRECT(ADDRESS(AR19,$AL$16+2,4,1),1)),0)) -> 0 | AR19: =ROW(AM19) -> 19
B20: Abril | AK20: =SUM(C20:AG20) -> 0 | AL20: =+AK20+AL19 -> 0 | AM20: 4 | AP20: =IF($AP$16>AM20,AK20,IF($AP$16=AM20,SUM(C20:INDIRECT(ADDRESS(AR20,$AL$16+2,4,1),1)),0)) -> 0 | AR20: =ROW(AM20) -> 20
B21: Mayo | AK21: =SUM(C21:AG21) -> 0 | AL21: =+AK21+AL20 -> 0 | AM21: 5 | AP21: =IF($AP$16>AM21,AK21,IF($AP$16=AM21,SUM(C21:INDIRECT(ADDRESS(AR21,$AL$16+2,4,1),1)),0)) -> 0 | AR21: =ROW(AM21) -> 21
B22: Junio | AK22: =SUM(C22:AG22) -> 0 | AL22: =+AK22+AL21 -> 0 | AM22: 6 | AP22: =IF($AP$16>AM22,AK22,IF($AP$16=AM22,SUM(C22:INDIRECT(ADDRESS(AR22,$AL$16+2,4,1),1)),0)) -> 0 | AR22: =ROW(AM22) -> 22
B23: Julio | AK23: =SUM(C23:AG23) -> 0 | AL23: =+AK23+AL22 -> 0 | AM23: 7 | AP23: =IF($AP$16>AM23,AK23,IF($AP$16=AM23,SUM(C23:INDIRECT(ADDRESS(AR23,$AL$16+2,4,1),1)),0)) -> 0 | AR23: =ROW(AM23) -> 23
B24: Agosto | AK24: =SUM(C24:AG24) -> 0 | AL24: =+AK24+AL23 -> 0 | AM24: 8 | AP24: =IF($AP$16>AM24,AK24,IF($AP$16=AM24,SUM(C24:INDIRECT(ADDRESS(AR24,$AL$16+2,4,1),1)),0)) -> 0 | AR24: =ROW(AM24) -> 24
B25: Septiembre | AK25: =SUM(C25:AG25) -> 0 | AL25: =+AK25+AL24 -> 0 | AM25: 9 | AP25: =IF($AP$16>AM25,AK25,IF($AP$16=AM25,SUM(C25:INDIRECT(ADDRESS(AR25,$AL$16+2,4,1),1)),0)) -> 0 | AR25: =ROW(AM25) -> 25
B26: Octubre | AK26: =SUM(C26:AG26) -> 0 | AL26: =+AK26+AL25 -> 0 | AM26: 10 | AP26: =IF($AP$16>AM26,AK26,IF($AP$16=AM26,SUM(C26:INDIRECT(ADDRESS(AR26,$AL$16+2,4,1),1)),0)) -> 0 | AR26: =ROW(AM26) -> 26
B27: Noviembre | AK27: =SUM(C27:AG27) -> 0 | AL27: =+AK27+AL26 -> 0 | AM27: 11 | AP27: =IF($AP$16>AM27,AK27,IF($AP$16=AM27,SUM(C27:INDIRECT(ADDRESS(AR27,$AL$16+2,4,1),1)),0)) -> 0 | AR27: =ROW(AM27) -> 27
B28: Diciembre | AI28: sábado | AJ28: domingo | AK28: =SUM(C28:AG28) -> 0 | AL28: =+AK28+AL27 -> 0 | AM28: 12 | AP28: =IF($AP$16>AM28,AK28,IF($AP$16=AM28,SUM(C28:INDIRECT(ADDRESS(AR28,$AL$16+2,4,1),1)),0)) -> 0 | AR28: =ROW(AM28) -> 28

Sheet 3
B2: ="Hoja de vacaciones 2026: "&resumen!B14&"" -> Hoja de vacaciones 2026: 3 | X2: =+resumen!E5 -> INDICATOR | AI2: Ç
AF3: 46022 | AG3: 46387 | AL3: Máximo días permitidos
J4: =+resumen!E10 -> A fecha de hoy 15.12.2025. | V4: =+resumen!H10 -> A fecha de 31.12.2026 | AL4: =+V6+G6 -> 30
B5: Vacaciones anuales | D5: Fecha alta | G5: Días pdtes. | J5: Devengados | N5: Realizados | R5: Saldo | V5: Devengados | Z5: Realizados | AD5: Saldo | AL5: =+AL4 -> 30
B6: =+resumen!J6 -> 30 | D6: =+resumen!C14 -> 0 | G6: =+resumen!D14 -> 0 | J6: =MAX(0,(TODAY()-MAX(AF3,D6))/365*B6) -> 0 | N6: =SUM(AP17:AP28) -> 0 | R6: =+G6+J6-N6 -> 0 | V6: =(AG3-MAX(AF3,D6))/365*B6 -> 30 | Z6: =SUM(C17:AG28) -> 0 | AD6: =+V6-Z6+G6 -> 30 | AL6: =+AL5 -> 30
AL7: =+AL6 -> 30
AL8: =+AL7 -> 30
AL9: =+AL8 -> 30
AL10: =+AL9 -> 30
AL11: =+AL10 -> 30
AL12: =+AL11 -> 30
AL13: =+AL12 -> 30
AL14: =+AL13 -> 30
AL15: =+AL14 -> 30
B16: 2026 | C16: 1 | D16: 2 | E16: 3 | F16: 4 | G16: 5 | H16: 6 | I16: 7 | J16: 8 | K16: 9 | L16: 10 | M16: 11 | N16: 12 | O16: 13 | P16: 14 | Q16: 15 | R16: 16 | S16: 17 | T16: 18 | U16: 19 | V16: 20 | W16: 21 | X16: 22 | Y16: 23 | Z16: 24 | AA16: 25 | AB16: 26 | AC16: 27 | AD16: 28 | AE16: 29 | AF16: 30 | AG16: 31 | AI16: i | AK16: =MAX(41274,TODAY()) -> 46006 | AL16: =DAY(AK16) -> 15 | AP16: =MONTH(AK16) -> 12
B17: Enero | AK17: =SUM(C17:AG17) -> 0 | AL17: =+AK17 -> 0 | AM17: 1 | AP17: =IF($AP$16>AM17,AK17,IF($AP$16=AM17,SUM(C17:INDIRECT(ADDRESS(AR17,$AL$16+2,4,1),1)),0)) -> 0 | AR17: =ROW(AM17) -> 17
B18: Febrero | AK18: =SUM(C18:AG18) -> 0 | AL18: =+AK18+AL17 -> 0 | AM18: 2 | AP18: =IF($AP$16>AM18,AK18,IF($AP$16=AM18,SUM(C18:INDIRECT(ADDRESS(AR18,$AL$16+2,4,1),1)),0)) -> 0 | AR18: =ROW(AM18) -> 18
B19: Marzo | AK19: =SUM(C19:AG19) -> 0 | AL19: =+AK19+AL18 -> 0 | AM19: 3 | AP19: =IF($AP$16>AM19,AK19,IF($AP$16=AM19,SUM(C19:INDIRECT(ADDRESS(AR19,$AL$16+2,4,1),1)),0)) -> 0 | AR19: =ROW(AM19) -> 19
B20: Abril | AK20: =SUM(C20:AG20) -> 0 | AL20: =+AK20+AL19 -> 0 | AM20: 4 | AP20: =IF($AP$16>AM20,AK20,IF($AP$16=AM20,SUM(C20:INDIRECT(ADDRESS(AR20,$AL$16+2,4,1),1)),0)) -> 0 | AR20: =ROW(AM20) -> 20
B21: Mayo | AK21: =SUM(C21:AG21) -> 0 | AL21: =+AK21+AL20 -> 0 | AM21: 5 | AP21: =IF($AP$16>AM21,AK21,IF($AP$16=AM21,SUM(C21:INDIRECT(ADDRESS(AR21,$AL$16+2,4,1),1)),0)) -> 0 | AR21: =ROW(AM21) -> 21
B22: Junio | AK22: =SUM(C22:AG22) -> 0 | AL22: =+AK22+AL21 -> 0 | AM22: 6 | AP22: =IF($AP$16>AM22,AK22,IF($AP$16=AM22,SUM(C22:INDIRECT(ADDRESS(AR22,$AL$16+2,4,1),1)),0)) -> 0 | AR22: =ROW(AM22) -> 22
B23: Julio | AK23: =SUM(C23:AG23) -> 0 | AL23: =+AK23+AL22 -> 0 | AM23: 7 | AP23: =IF($AP$16>AM23,AK23,IF($AP$16=AM23,SUM(C23:INDIRECT(ADDRESS(AR23,$AL$16+2,4,1),1)),0)) -> 0 | AR23: =ROW(AM23) -> 23
B24: Agosto | AK24: =SUM(C24:AG24) -> 0 | AL24: =+AK24+AL23 -> 0 | AM24: 8 | AP24: =IF($AP$16>AM24,AK24,IF($AP$16=AM24,SUM(C24:INDIRECT(ADDRESS(AR24,$AL$16+2,4,1),1)),0)) -> 0 | AR24: =ROW(AM24) -> 24
B25: Septiembre | AK25: =SUM(C25:AG25) -> 0 | AL25: =+AK25+AL24 -> 0 | AM25: 9 | AP25: =IF($AP$16>AM25,AK25,IF($AP$16=AM25,SUM(C25:INDIRECT(ADDRESS(AR25,$AL$16+2,4,1),1)),0)) -> 0 | AR25: =ROW(AM25) -> 25
B26: Octubre | AK26: =SUM(C26:AG26) -> 0 | AL26: =+AK26+AL25 -> 0 | AM26: 10 | AP26: =IF($AP$16>AM26,AK26,IF($AP$16=AM26,SUM(C26:INDIRECT(ADDRESS(AR26,$AL$16+2,4,1),1)),0)) -> 0 | AR26: =ROW(AM26) -> 26
B27: Noviembre | AK27: =SUM(C27:AG27) -> 0 | AL27: =+AK27+AL26 -> 0 | AM27: 11 | AP27: =IF($AP$16>AM27,AK27,IF($AP$16=AM27,SUM(C27:INDIRECT(ADDRESS(AR27,$AL$16+2,4,1),1)),0)) -> 0 | AR27: =ROW(AM27) -> 27
B28: Diciembre | AI28: sábado | AJ28: domingo | AK28: =SUM(C28:AG28) -> 0 | AL28: =+AK28+AL27 -> 0 | AM28: 12 | AP28: =IF($AP$16>AM28,AK28,IF($AP$16=AM28,SUM(C28:INDIRECT(ADDRESS(AR28,$AL$16+2,4,1),1)),0)) -> 0 | AR28: =ROW(AM28) -> 28

Sheet 4
B2: ="Hoja de vacaciones 2026: "&resumen!B15&"" -> Hoja de vacaciones 2026: 4 | X2: =+resumen!E5 -> INDICATOR | AI2: Ç
AF3: 46022 | AG3: 46387 | AL3: Máximo días permitidos
J4: =+resumen!E10 -> A fecha de hoy 15.12.2025. | V4: =+resumen!H10 -> A fecha de 31.12.2026 | AL4: =+V6+G6 -> 30
B5: Vacaciones anuales | D5: Fecha alta | G5: Días pdtes. | J5: Devengados | N5: Realizados | R5: Saldo | V5: Devengados | Z5: Realizados | AD5: Saldo | AL5: =+AL4 -> 30
B6: =+resumen!J6 -> 30 | D6: =+resumen!C15 -> 0 | G6: =+resumen!D15 -> 0 | J6: =MAX(0,(TODAY()-MAX(AF3,D6))/365*B6) -> 0 | N6: =SUM(AP17:AP28) -> 0 | R6: =+G6+J6-N6 -> 0 | V6: =(AG3-MAX(AF3,D6))/365*B6 -> 30 | Z6: =SUM(C17:AG28) -> 0 | AD6: =+V6-Z6+G6 -> 30 | AL6: =+AL5 -> 30
AL7: =+AL6 -> 30
AL8: =+AL7 -> 30
AL9: =+AL8 -> 30
AL10: =+AL9 -> 30
AL11: =+AL10 -> 30
AL12: =+AL11 -> 30
AL13: =+AL12 -> 30
AL14: =+AL13 -> 30
AL15: =+AL14 -> 30
B16: 2026 | C16: 1 | D16: 2 | E16: 3 | F16: 4 | G16: 5 | H16: 6 | I16: 7 | J16: 8 | K16: 9 | L16: 10 | M16: 11 | N16: 12 | O16: 13 | P16: 14 | Q16: 15 | R16: 16 | S16: 17 | T16: 18 | U16: 19 | V16: 20 | W16: 21 | X16: 22 | Y16: 23 | Z16: 24 | AA16: 25 | AB16: 26 | AC16: 27 | AD16: 28 | AE16: 29 | AF16: 30 | AG16: 31 | AI16: i | AK16: =MAX(41274,TODAY()) -> 46006 | AL16: =DAY(AK16) -> 15 | AP16: =MONTH(AK16) -> 12
B17: Enero | AK17: =SUM(C17:AG17) -> 0 | AL17: =+AK17 -> 0 | AM17: 1 | AP17: =IF($AP$16>AM17,AK17,IF($AP$16=AM17,SUM(C17:INDIRECT(ADDRESS(AR17,$AL$16+2,4,1),1)),0)) -> 0 | AR17: =ROW(AM17) -> 17
B18: Febrero | AK18: =SUM(C18:AG18) -> 0 | AL18: =+AK18+AL17 -> 0 | AM18: 2 | AP18: =IF($AP$16>AM18,AK18,IF($AP$16=AM18,SUM(C18:INDIRECT(ADDRESS(AR18,$AL$16+2,4,1),1)),0)) -> 0 | AR18: =ROW(AM18) -> 18
B19: Marzo | AK19: =SUM(C19:AG19) -> 0 | AL19: =+AK19+AL18 -> 0 | AM19: 3 | AP19: =IF($AP$16>AM19,AK19,IF($AP$16=AM19,SUM(C19:INDIRECT(ADDRESS(AR19,$AL$16+2,4,1),1)),0)) -> 0 | AR19: =ROW(AM19) -> 19
B20: Abril | AK20: =SUM(C20:AG20) -> 0 | AL20: =+AK20+AL19 -> 0 | AM20: 4 | AP20: =IF($AP$16>AM20,AK20,IF($AP$16=AM20,SUM(C20:INDIRECT(ADDRESS(AR20,$AL$16+2,4,1),1)),0)) -> 0 | AR20: =ROW(AM20) -> 20
B21: Mayo | AK21: =SUM(C21:AG21) -> 0 | AL21: =+AK21+AL20 -> 0 | AM21: 5 | AP21: =IF($AP$16>AM21,AK21,IF($AP$16=AM21,SUM(C21:INDIRECT(ADDRESS(AR21,$AL$16+2,4,1),1)),0)) -> 0 | AR21: =ROW(AM21) -> 21
B22: Junio | AK22: =SUM(C22:AG22) -> 0 | AL22: =+AK22+AL21 -> 0 | AM22: 6 | AP22: =IF($AP$16>AM22,AK22,IF($AP$16=AM22,SUM(C22:INDIRECT(ADDRESS(AR22,$AL$16+2,4,1),1)),0)) -> 0 | AR22: =ROW(AM22) -> 22
B23: Julio | AK23: =SUM(C23:AG23) -> 0 | AL23: =+AK23+AL22 -> 0 | AM23: 7 | AP23: =IF($AP$16>AM23,AK23,IF($AP$16=AM23,SUM(C23:INDIRECT(ADDRESS(AR23,$AL$16+2,4,1),1)),0)) -> 0 | AR23: =ROW(AM23) -> 23
B24: Agosto | AK24: =SUM(C24:AG24) -> 0 | AL24: =+AK24+AL23 -> 0 | AM24: 8 | AP24: =IF($AP$16>AM24,AK24,IF($AP$16=AM24,SUM(C24:INDIRECT(ADDRESS(AR24,$AL$16+2,4,1),1)),0)) -> 0 | AR24: =ROW(AM24) -> 24
B25: Septiembre | AK25: =SUM(C25:AG25) -> 0 | AL25: =+AK25+AL24 -> 0 | AM25: 9 | AP25: =IF($AP$16>AM25,AK25,IF($AP$16=AM25,SUM(C25:INDIRECT(ADDRESS(AR25,$AL$16+2,4,1),1)),0)) -> 0 | AR25: =ROW(AM25) -> 25
B26: Octubre | AK26: =SUM(C26:AG26) -> 0 | AL26: =+AK26+AL25 -> 0 | AM26: 10 | AP26: =IF($AP$16>AM26,AK26,IF($AP$16=AM26,SUM(C26:INDIRECT(ADDRESS(AR26,$AL$16+2,4,1),1)),0)) -> 0 | AR26: =ROW(AM26) -> 26
B27: Noviembre | AK27: =SUM(C27:AG27) -> 0 | AL27: =+AK27+AL26 -> 0 | AM27: 11 | AP27: =IF($AP$16>AM27,AK27,IF($AP$16=AM27,SUM(C27:INDIRECT(ADDRESS(AR27,$AL$16+2,4,1),1)),0)) -> 0 | AR27: =ROW(AM27) -> 27
B28: Diciembre | AI28: sábado | AJ28: domingo | AK28: =SUM(C28:AG28) -> 0 | AL28: =+AK28+AL27 -> 0 | AM28: 12 | AP28: =IF($AP$16>AM28,AK28,IF($AP$16=AM28,SUM(C28:INDIRECT(ADDRESS(AR28,$AL$16+2,4,1),1)),0)) -> 0 | AR28: =ROW(AM28) -> 28

Sheet 5
B2: ="Hoja de vacaciones 2026: "&resumen!B16&"" -> Hoja de vacaciones 2026: 5 | X2: =+resumen!E5 -> INDICATOR | AI2: Ç
AF3: 46022 | AG3: 46387 | AL3: Máximo días permitidos
J4: =+resumen!E10 -> A fecha de hoy 15.12.2025. | V4: =+resumen!H10 -> A fecha de 31.12.2026 | AL4: =+V6+G6 -> 30
B5: Vacaciones anuales | D5: Fecha alta | G5: Días pdtes. | J5: Devengados | N5: Realizados | R5: Saldo | V5: Devengados | Z5: Realizados | AD5: Saldo | AL5: =+AL4 -> 30
B6: =+resumen!J6 -> 30 | D6: =+resumen!C16 -> 0 | G6: =+resumen!D16 -> 0 | J6: =MAX(0,(TODAY()-MAX(AF3,D6))/365*B6) -> 0 | N6: =SUM(AP17:AP28) -> 0 | R6: =+G6+J6-N6 -> 0 | V6: =(AG3-MAX(AF3,D6))/365*B6 -> 30 | Z6: =SUM(C17:AG28) -> 0 | AD6: =+V6-Z6+G6 -> 30 | AL6: =+AL5 -> 30
AL7: =+AL6 -> 30
AL8: =+AL7 -> 30
AL9: =+AL8 -> 30
AL10: =+AL9 -> 30
AL11: =+AL10 -> 30
AL12: =+AL11 -> 30
AL13: =+AL12 -> 30
AL14: =+AL13 -> 30
AL15: =+AL14 -> 30
B16: 2026 | C16: 1 | D16: 2 | E16: 3 | F16: 4 | G16: 5 | H16: 6 | I16: 7 | J16: 8 | K16: 9 | L16: 10 | M16: 11 | N16: 12 | O16: 13 | P16: 14 | Q16: 15 | R16: 16 | S16: 17 | T16: 18 | U16: 19 | V16: 20 | W16: 21 | X16: 22 | Y16: 23 | Z16: 24 | AA16: 25 | AB16: 26 | AC16: 27 | AD16: 28 | AE16: 29 | AF16: 30 | AG16: 31 | AI16: i | AK16: =MAX(41274,TODAY()) -> 46006 | AL16: =DAY(AK16) -> 15 | AP16: =MONTH(AK16) -> 12
B17: Enero | AK17: =SUM(C17:AG17) -> 0 | AL17: =+AK17 -> 0 | AM17: 1 | AP17: =IF($AP$16>AM17,AK17,IF($AP$16=AM17,SUM(C17:INDIRECT(ADDRESS(AR17,$AL$16+2,4,1),1)),0)) -> 0 | AR17: =ROW(AM17) -> 17
B18: Febrero | AK18: =SUM(C18:AG18) -> 0 | AL18: =+AK18+AL17 -> 0 | AM18: 2 | AP18: =IF($AP$16>AM18,AK18,IF($AP$16=AM18,SUM(C18:INDIRECT(ADDRESS(AR18,$AL$16+2,4,1),1)),0)) -> 0 | AR18: =ROW(AM18) -> 18
B19: Marzo | AK19: =SUM(C19:AG19) -> 0 | AL19: =+AK19+AL18 -> 0 | AM19: 3 | AP19: =IF($AP$16>AM19,AK19,IF($AP$16=AM19,SUM(C19:INDIRECT(ADDRESS(AR19,$AL$16+2,4,1),1)),0)) -> 0 | AR19: =ROW(AM19) -> 19
B20: Abril | AK20: =SUM(C20:AG20) -> 0 | AL20: =+AK20+AL19 -> 0 | AM20: 4 | AP20: =IF($AP$16>AM20,AK20,IF($AP$16=AM20,SUM(C20:INDIRECT(ADDRESS(AR20,$AL$16+2,4,1),1)),0)) -> 0 | AR20: =ROW(AM20) -> 20
B21: Mayo | AK21: =SUM(C21:AG21) -> 0 | AL21: =+AK21+AL20 -> 0 | AM21: 5 | AP21: =IF($AP$16>AM21,AK21,IF($AP$16=AM21,SUM(C21:INDIRECT(ADDRESS(AR21,$AL$16+2,4,1),1)),0)) -> 0 | AR21: =ROW(AM21) -> 21
B22: Junio | AK22: =SUM(C22:AG22) -> 0 | AL22: =+AK22+AL21 -> 0 | AM22: 6 | AP22: =IF($AP$16>AM22,AK22,IF($AP$16=AM22,SUM(C22:INDIRECT(ADDRESS(AR22,$AL$16+2,4,1),1)),0)) -> 0 | AR22: =ROW(AM22) -> 22
B23: Julio | AK23: =SUM(C23:AG23) -> 0 | AL23: =+AK23+AL22 -> 0 | AM23: 7 | AP23: =IF($AP$16>AM23,AK23,IF($AP$16=AM23,SUM(C23:INDIRECT(ADDRESS(AR23,$AL$16+2,4,1),1)),0)) -> 0 | AR23: =ROW(AM23) -> 23
B24: Agosto | AK24: =SUM(C24:AG24) -> 0 | AL24: =+AK24+AL23 -> 0 | AM24: 8 | AP24: =IF($AP$16>AM24,AK24,IF($AP$16=AM24,SUM(C24:INDIRECT(ADDRESS(AR24,$AL$16+2,4,1),1)),0)) -> 0 | AR24: =ROW(AM24) -> 24
B25: Septiembre | AK25: =SUM(C25:AG25) -> 0 | AL25: =+AK25+AL24 -> 0 | AM25: 9 | AP25: =IF($AP$16>AM25,AK25,IF($AP$16=AM25,SUM(C25:INDIRECT(ADDRESS(AR25,$AL$16+2,4,1),1)),0)) -> 0 | AR25: =ROW(AM25) -> 25
B26: Octubre | AK26: =SUM(C26:AG26) -> 0 | AL26: =+AK26+AL25 -> 0 | AM26: 10 | AP26: =IF($AP$16>AM26,AK26,IF($AP$16=AM26,SUM(C26:INDIRECT(ADDRESS(AR26,$AL$16+2,4,1),1)),0)) -> 0 | AR26: =ROW(AM26) -> 26
B27: Noviembre | AK27: =SUM(C27:AG27) -> 0 | AL27: =+AK27+AL26 -> 0 | AM27: 11 | AP27: =IF($AP$16>AM27,AK27,IF($AP$16=AM27,SUM(C27:INDIRECT(ADDRESS(AR27,$AL$16+2,4,1),1)),0)) -> 0 | AR27: =ROW(AM27) -> 27
B28: Diciembre | AI28: sábado | AJ28: domingo | AK28: =SUM(C28:AG28) -> 0 | AL28: =+AK28+AL27 -> 0 | AM28: 12 | AP28: =IF($AP$16>AM28,AK28,IF($AP$16=AM28,SUM(C28:INDIRECT(ADDRESS(AR28,$AL$16+2,4,1),1)),0)) -> 0 | AR28: =ROW(AM28) -> 28

Sheet 6
B2: ="Hoja de vacaciones 2026: "&resumen!B17&"" -> Hoja de vacaciones 2026: 6 | X2: =+resumen!E5 -> INDICATOR | AI2: Ç
AF3: 46022 | AG3: 46387 | AL3: Máximo días permitidos
J4: =+resumen!E10 -> A fecha de hoy 15.12.2025. | V4: =+resumen!H10 -> A fecha de 31.12.2026 | AL4: =+V6+G6 -> 30
B5: Vacaciones anuales | D5: Fecha alta | G5: Días pdtes. | J5: Devengados | N5: Realizados | R5: Saldo | V5: Devengados | Z5: Realizados | AD5: Saldo | AL5: =+AL4 -> 30
B6: =+resumen!J6 -> 30 | D6: =+resumen!C17 -> 0 | G6: =+resumen!D17 -> 0 | J6: =MAX(0,(TODAY()-MAX(AF3,D6))/365*B6) -> 0 | N6: =SUM(AP17:AP28) -> 0 | R6: =+G6+J6-N6 -> 0 | V6: =(AG3-MAX(AF3,D6))/365*B6 -> 30 | Z6: =SUM(C17:AG28) -> 0 | AD6: =+V6-Z6+G6 -> 30 | AL6: =+AL5 -> 30
AL7: =+AL6 -> 30
AL8: =+AL7 -> 30
AL9: =+AL8 -> 30
AL10: =+AL9 -> 30
AL11: =+AL10 -> 30
AL12: =+AL11 -> 30
AL13: =+AL12 -> 30
AL14: =+AL13 -> 30
AL15: =+AL14 -> 30
B16: 2026 | C16: 1 | D16: 2 | E16: 3 | F16: 4 | G16: 5 | H16: 6 | I16: 7 | J16: 8 | K16: 9 | L16: 10 | M16: 11 | N16: 12 | O16: 13 | P16: 14 | Q16: 15 | R16: 16 | S16: 17 | T16: 18 | U16: 19 | V16: 20 | W16: 21 | X16: 22 | Y16: 23 | Z16: 24 | AA16: 25 | AB16: 26 | AC16: 27 | AD16: 28 | AE16: 29 | AF16: 30 | AG16: 31 | AI16: i | AK16: =MAX(41274,TODAY()) -> 46006 | AL16: =DAY(AK16) -> 15 | AP16: =MONTH(AK16) -> 12
B17: Enero | AK17: =SUM(C17:AG17) -> 0 | AL17: =+AK17 -> 0 | AM17: 1 | AP17: =IF($AP$16>AM17,AK17,IF($AP$16=AM17,SUM(C17:INDIRECT(ADDRESS(AR17,$AL$16+2,4,1),1)),0)) -> 0 | AR17: =ROW(AM17) -> 17
B18: Febrero | AK18: =SUM(C18:AG18) -> 0 | AL18: =+AK18+AL17 -> 0 | AM18: 2 | AP18: =IF($AP$16>AM18,AK18,IF($AP$16=AM18,SUM(C18:INDIRECT(ADDRESS(AR18,$AL$16+2,4,1),1)),0)) -> 0 | AR18: =ROW(AM18) -> 18
B19: Marzo | AK19: =SUM(C19:AG19) -> 0 | AL19: =+AK19+AL18 -> 0 | AM19: 3 | AP19: =IF($AP$16>AM19,AK19,IF($AP$16=AM19,SUM(C19:INDIRECT(ADDRESS(AR19,$AL$16+2,4,1),1)),0)) -> 0 | AR19: =ROW(AM19) -> 19
B20: Abril | AK20: =SUM(C20:AG20) -> 0 | AL20: =+AK20+AL19 -> 0 | AM20: 4 | AP20: =IF($AP$16>AM20,AK20,IF($AP$16=AM20,SUM(C20:INDIRECT(ADDRESS(AR20,$AL$16+2,4,1),1)),0)) -> 0 | AR20: =ROW(AM20) -> 20
B21: Mayo | AK21: =SUM(C21:AG21) -> 0 | AL21: =+AK21+AL20 -> 0 | AM21: 5 | AP21: =IF($AP$16>AM21,AK21,IF($AP$16=AM21,SUM(C21:INDIRECT(ADDRESS(AR21,$AL$16+2,4,1),1)),0)) -> 0 | AR21: =ROW(AM21) -> 21
B22: Junio | AK22: =SUM(C22:AG22) -> 0 | AL22: =+AK22+AL21 -> 0 | AM22: 6 | AP22: =IF($AP$16>AM22,AK22,IF($AP$16=AM22,SUM(C22:INDIRECT(ADDRESS(AR22,$AL$16+2,4,1),1)),0)) -> 0 | AR22: =ROW(AM22) -> 22
B23: Julio | AK23: =SUM(C23:AG23) -> 0 | AL23: =+AK23+AL22 -> 0 | AM23: 7 | AP23: =IF($AP$16>AM23,AK23,IF($AP$16=AM23,SUM(C23:INDIRECT(ADDRESS(AR23,$AL$16+2,4,1),1)),0)) -> 0 | AR23: =ROW(AM23) -> 23
B24: Agosto | AK24: =SUM(C24:AG24) -> 0 | AL24: =+AK24+AL23 -> 0 | AM24: 8 | AP24: =IF($AP$16>AM24,AK24,IF($AP$16=AM24,SUM(C24:INDIRECT(ADDRESS(AR24,$AL$16+2,4,1),1)),0)) -> 0 | AR24: =ROW(AM24) -> 24
B25: Septiembre | AK25: =SUM(C25:AG25) -> 0 | AL25: =+AK25+AL24 -> 0 | AM25: 9 | AP25: =IF($AP$16>AM25,AK25,IF($AP$16=AM25,SUM(C25:INDIRECT(ADDRESS(AR25,$AL$16+2,4,1),1)),0)) -> 0 | AR25: =ROW(AM25) -> 25
B26: Octubre | AK26: =SUM(C26:AG26) -> 0 | AL26: =+AK26+AL25 -> 0 | AM26: 10 | AP26: =IF($AP$16>AM26,AK26,IF($AP$16=AM26,SUM(C26:INDIRECT(ADDRESS(AR26,$AL$16+2,4,1),1)),0)) -> 0 | AR26: =ROW(AM26) -> 26
B27: Noviembre | AK27: =SUM(C27:AG27) -> 0 | AL27: =+AK27+AL26 -> 0 | AM27: 11 | AP27: =IF($AP$16>AM27,AK27,IF($AP$16=AM27,SUM(C27:INDIRECT(ADDRESS(AR27,$AL$16+2,4,1),1)),0)) -> 0 | AR27: =ROW(AM27) -> 27
B28: Diciembre | AI28: sábado | AJ28: domingo | AK28: =SUM(C28:AG28) -> 0 | AL28: =+AK28+AL27 -> 0 | AM28: 12 | AP28: =IF($AP$16>AM28,AK28,IF($AP$16=AM28,SUM(C28:INDIRECT(ADDRESS(AR28,$AL$16+2,4,1),1)),0)) -> 0 | AR28: =ROW(AM28) -> 28

Sheet 7
B2: ="Hoja de vacaciones 2026: "&resumen!B18&"" -> Hoja de vacaciones 2026: 7 | X2: =+resumen!E5 -> INDICATOR | AI2: Ç
AF3: 46022 | AG3: 46387 | AL3: Máximo días permitidos
J4: =+resumen!E10 -> A fecha de hoy 15.12.2025. | V4: =+resumen!H10 -> A fecha de 31.12.2026 | AL4: =+V6+G6 -> 30
B5: Vacaciones anuales | D5: Fecha alta | G5: Días pdtes. | J5: Devengados | N5: Realizados | R5: Saldo | V5: Devengados | Z5: Realizados | AD5: Saldo | AL5: =+AL4 -> 30
B6: =+resumen!J6 -> 30 | D6: =+resumen!C18 -> 0 | G6: =+resumen!D18 -> 0 | J6: =MAX(0,(TODAY()-MAX(AF3,D6))/365*B6) -> 0 | N6: =SUM(AP17:AP28) -> 0 | R6: =+G6+J6-N6 -> 0 | V6: =(AG3-MAX(AF3,D6))/365*B6 -> 30 | Z6: =SUM(C17:AG28) -> 0 | AD6: =+V6-Z6+G6 -> 30 | AL6: =+AL5 -> 30
AL7: =+AL6 -> 30
AL8: =+AL7 -> 30
AL9: =+AL8 -> 30
AL10: =+AL9 -> 30
AL11: =+AL10 -> 30
AL12: =+AL11 -> 30
AL13: =+AL12 -> 30
AL14: =+AL13 -> 30
AL15: =+AL14 -> 30
B16: 2026 | C16: 1 | D16: 2 | E16: 3 | F16: 4 | G16: 5 | H16: 6 | I16: 7 | J16: 8 | K16: 9 | L16: 10 | M16: 11 | N16: 12 | O16: 13 | P16: 14 | Q16: 15 | R16: 16 | S16: 17 | T16: 18 | U16: 19 | V16: 20 | W16: 21 | X16: 22 | Y16: 23 | Z16: 24 | AA16: 25 | AB16: 26 | AC16: 27 | AD16: 28 | AE16: 29 | AF16: 30 | AG16: 31 | AI16: i | AK16: =MAX(41274,TODAY()) -> 46006 | AL16: =DAY(AK16) -> 15 | AP16: =MONTH(AK16) -> 12
B17: Enero | AK17: =SUM(C17:AG17) -> 0 | AL17: =+AK17 -> 0 | AM17: 1 | AP17: =IF($AP$16>AM17,AK17,IF($AP$16=AM17,SUM(C17:INDIRECT(ADDRESS(AR17,$AL$16+2,4,1),1)),0)) -> 0 | AR17: =ROW(AM17) -> 17
B18: Febrero | AK18: =SUM(C18:AG18) -> 0 | AL18: =+AK18+AL17 -> 0 | AM18: 2 | AP18: =IF($AP$16>AM18,AK18,IF($AP$16=AM18,SUM(C18:INDIRECT(ADDRESS(AR18,$AL$16+2,4,1),1)),0)) -> 0 | AR18: =ROW(AM18) -> 18
B19: Marzo | AK19: =SUM(C19:AG19) -> 0 | AL19: =+AK19+AL18 -> 0 | AM19: 3 | AP19: =IF($AP$16>AM19,AK19,IF($AP$16=AM19,SUM(C19:INDIRECT(ADDRESS(AR19,$AL$16+2,4,1),1)),0)) -> 0 | AR19: =ROW(AM19) -> 19
B20: Abril | AK20: =SUM(C20:AG20) -> 0 | AL20: =+AK20+AL19 -> 0 | AM20: 4 | AP20: =IF($AP$16>AM20,AK20,IF($AP$16=AM20,SUM(C20:INDIRECT(ADDRESS(AR20,$AL$16+2,4,1),1)),0)) -> 0 | AR20: =ROW(AM20) -> 20
B21: Mayo | AK21: =SUM(C21:AG21) -> 0 | AL21: =+AK21+AL20 -> 0 | AM21: 5 | AP21: =IF($AP$16>AM21,AK21,IF($AP$16=AM21,SUM(C21:INDIRECT(ADDRESS(AR21,$AL$16+2,4,1),1)),0)) -> 0 | AR21: =ROW(AM21) -> 21
B22: Junio | AK22: =SUM(C22:AG22) -> 0 | AL22: =+AK22+AL21 -> 0 | AM22: 6 | AP22: =IF($AP$16>AM22,AK22,IF($AP$16=AM22,SUM(C22:INDIRECT(ADDRESS(AR22,$AL$16+2,4,1),1)),0)) -> 0 | AR22: =ROW(AM22) -> 22
B23: Julio | AK23: =SUM(C23:AG23) -> 0 | AL23: =+AK23+AL22 -> 0 | AM23: 7 | AP23: =IF($AP$16>AM23,AK23,IF($AP$16=AM23,SUM(C23:INDIRECT(ADDRESS(AR23,$AL$16+2,4,1),1)),0)) -> 0 | AR23: =ROW(AM23) -> 23
B24: Agosto | AK24: =SUM(C24:AG24) -> 0 | AL24: =+AK24+AL23 -> 0 | AM24: 8 | AP24: =IF($AP$16>AM24,AK24,IF($AP$16=AM24,SUM(C24:INDIRECT(ADDRESS(AR24,$AL$16+2,4,1),1)),0)) -> 0 | AR24: =ROW(AM24) -> 24
B25: Septiembre | AK25: =SUM(C25:AG25) -> 0 | AL25: =+AK25+AL24 -> 0 | AM25: 9 | AP25: =IF($AP$16>AM25,AK25,IF($AP$16=AM25,SUM(C25:INDIRECT(ADDRESS(AR25,$AL$16+2,4,1),1)),0)) -> 0 | AR25: =ROW(AM25) -> 25
B26: Octubre | AK26: =SUM(C26:AG26) -> 0 | AL26: =+AK26+AL25 -> 0 | AM26: 10 | AP26: =IF($AP$16>AM26,AK26,IF($AP$16=AM26,SUM(C26:INDIRECT(ADDRESS(AR26,$AL$16+2,4,1),1)),0)) -> 0 | AR26: =ROW(AM26) -> 26
B27: Noviembre | AK27: =SUM(C27:AG27) -> 0 | AL27: =+AK27+AL26 -> 0 | AM27: 11 | AP27: =IF($AP$16>AM27,AK27,IF($AP$16=AM27,SUM(C27:INDIRECT(ADDRESS(AR27,$AL$16+2,4,1),1)),0)) -> 0 | AR27: =ROW(AM27) -> 27
B28: Diciembre | AI28: sábado | AJ28: domingo | AK28: =SUM(C28:AG28) -> 0 | AL28: =+AK28+AL27 -> 0 | AM28: 12 | AP28: =IF($AP$16>AM28,AK28,IF($AP$16=AM28,SUM(C28:INDIRECT(ADDRESS(AR28,$AL$16+2,4,1),1)),0)) -> 0 | AR28: =ROW(AM28) -> 28

Sheet 8
B2: ="Hoja de vacaciones 2026: "&resumen!B19&"" -> Hoja de vacaciones 2026: 8 | X2: =+resumen!E5 -> INDICATOR | AI2: Ç
AF3: 46022 | AG3: 46387 | AL3: Máximo días permitidos
J4: =+resumen!E10 -> A fecha de hoy 15.12.2025. | V4: =+resumen!H10 -> A fecha de 31.12.2026 | AL4: =+V6+G6 -> 30
B5: Vacaciones anuales | D5: Fecha alta | G5: Días pdtes. | J5: Devengados | N5: Realizados | R5: Saldo | V5: Devengados | Z5: Realizados | AD5: Saldo | AL5: =+AL4 -> 30
B6: =+resumen!J6 -> 30 | D6: =+resumen!C19 -> 0 | G6: =+resumen!D19 -> 0 | J6: =MAX(0,(TODAY()-MAX(AF3,D6))/365*B6) -> 0 | N6: =SUM(AP17:AP28) -> 0 | R6: =+G6+J6-N6 -> 0 | V6: =(AG3-MAX(AF3,D6))/365*B6 -> 30 | Z6: =SUM(C17:AG28) -> 0 | AD6: =+V6-Z6+G6 -> 30 | AL6: =+AL5 -> 30
AL7: =+AL6 -> 30
AL8: =+AL7 -> 30
AL9: =+AL8 -> 30
AL10: =+AL9 -> 30
AL11: =+AL10 -> 30
AL12: =+AL11 -> 30
AL13: =+AL12 -> 30
AL14: =+AL13 -> 30
AL15: =+AL14 -> 30
B16: 2026 | C16: 1 | D16: 2 | E16: 3 | F16: 4 | G16: 5 | H16: 6 | I16: 7 | J16: 8 | K16: 9 | L16: 10 | M16: 11 | N16: 12 | O16: 13 | P16: 14 | Q16: 15 | R16: 16 | S16: 17 | T16: 18 | U16: 19 | V16: 20 | W16: 21 | X16: 22 | Y16: 23 | Z16: 24 | AA16: 25 | AB16: 26 | AC16: 27 | AD16: 28 | AE16: 29 | AF16: 30 | AG16: 31 | AI16: i | AK16: =MAX(41274,TODAY()) -> 46006 | AL16: =DAY(AK16) -> 15 | AP16: =MONTH(AK16) -> 12
B17: Enero | AK17: =SUM(C17:AG17) -> 0 | AL17: =+AK17 -> 0 | AM17: 1 | AP17: =IF($AP$16>AM17,AK17,IF($AP$16=AM17,SUM(C17:INDIRECT(ADDRESS(AR17,$AL$16+2,4,1),1)),0)) -> 0 | AR17: =ROW(AM17) -> 17
B18: Febrero | AK18: =SUM(C18:AG18) -> 0 | AL18: =+AK18+AL17 -> 0 | AM18: 2 | AP18: =IF($AP$16>AM18,AK18,IF($AP$16=AM18,SUM(C18:INDIRECT(ADDRESS(AR18,$AL$16+2,4,1),1)),0)) -> 0 | AR18: =ROW(AM18) -> 18
B19: Marzo | AK19: =SUM(C19:AG19) -> 0 | AL19: =+AK19+AL18 -> 0 | AM19: 3 | AP19: =IF($AP$16>AM19,AK19,IF($AP$16=AM19,SUM(C19:INDIRECT(ADDRESS(AR19,$AL$16+2,4,1),1)),0)) -> 0 | AR19: =ROW(AM19) -> 19
B20: Abril | AK20: =SUM(C20:AG20) -> 0 | AL20: =+AK20+AL19 -> 0 | AM20: 4 | AP20: =IF($AP$16>AM20,AK20,IF($AP$16=AM20,SUM(C20:INDIRECT(ADDRESS(AR20,$AL$16+2,4,1),1)),0)) -> 0 | AR20: =ROW(AM20) -> 20
B21: Mayo | AK21: =SUM(C21:AG21) -> 0 | AL21: =+AK21+AL20 -> 0 | AM21: 5 | AP21: =IF($AP$16>AM21,AK21,IF($AP$16=AM21,SUM(C21:INDIRECT(ADDRESS(AR21,$AL$16+2,4,1),1)),0)) -> 0 | AR21: =ROW(AM21) -> 21
B22: Junio | AK22: =SUM(C22:AG22) -> 0 | AL22: =+AK22+AL21 -> 0 | AM22: 6 | AP22: =IF($AP$16>AM22,AK22,IF($AP$16=AM22,SUM(C22:INDIRECT(ADDRESS(AR22,$AL$16+2,4,1),1)),0)) -> 0 | AR22: =ROW(AM22) -> 22
B23: Julio | AK23: =SUM(C23:AG23) -> 0 | AL23: =+AK23+AL22 -> 0 | AM23: 7 | AP23: =IF($AP$16>AM23,AK23,IF($AP$16=AM23,SUM(C23:INDIRECT(ADDRESS(AR23,$AL$16+2,4,1),1)),0)) -> 0 | AR23: =ROW(AM23) -> 23
B24: Agosto | AK24: =SUM(C24:AG24) -> 0 | AL24: =+AK24+AL23 -> 0 | AM24: 8 | AP24: =IF($AP$16>AM24,AK24,IF($AP$16=AM24,SUM(C24:INDIRECT(ADDRESS(AR24,$AL$16+2,4,1),1)),0)) -> 0 | AR24: =ROW(AM24) -> 24
B25: Septiembre | AK25: =SUM(C25:AG25) -> 0 | AL25: =+AK25+AL24 -> 0 | AM25: 9 | AP25: =IF($AP$16>AM25,AK25,IF($AP$16=AM25,SUM(C25:INDIRECT(ADDRESS(AR25,$AL$16+2,4,1),1)),0)) -> 0 | AR25: =ROW(AM25) -> 25
B26: Octubre | AK26: =SUM(C26:AG26) -> 0 | AL26: =+AK26+AL25 -> 0 | AM26: 10 | AP26: =IF($AP$16>AM26,AK26,IF($AP$16=AM26,SUM(C26:INDIRECT(ADDRESS(AR26,$AL$16+2,4,1),1)),0)) -> 0 | AR26: =ROW(AM26) -> 26
B27: Noviembre | AK27: =SUM(C27:AG27) -> 0 | AL27: =+AK27+AL26 -> 0 | AM27: 11 | AP27: =IF($AP$16>AM27,AK27,IF($AP$16=AM27,SUM(C27:INDIRECT(ADDRESS(AR27,$AL$16+2,4,1),1)),0)) -> 0 | AR27: =ROW(AM27) -> 27
B28: Diciembre | AI28: sábado | AJ28: domingo | AK28: =SUM(C28:AG28) -> 0 | AL28: =+AK28+AL27 -> 0 | AM28: 12 | AP28: =IF($AP$16>AM28,AK28,IF($AP$16=AM28,SUM(C28:INDIRECT(ADDRESS(AR28,$AL$16+2,4,1),1)),0)) -> 0 | AR28: =ROW(AM28) -> 28

Sheet 9
B2: ="Hoja de vacaciones 2026: "&resumen!B20&"" -> Hoja de vacaciones 2026: 9 | X2: =+resumen!E5 -> INDICATOR | AI2: Ç
AF3: 46022 | AG3: 46387 | AL3: Máximo días permitidos
J4: =+resumen!E10 -> A fecha de hoy 15.12.2025. | V4: =+resumen!H10 -> A fecha de 31.12.2026 | AL4: =+V6+G6 -> 30
B5: Vacaciones anuales | D5: Fecha alta | G5: Días pdtes. | J5: Devengados | N5: Realizados | R5: Saldo | V5: Devengados | Z5: Realizados | AD5: Saldo | AL5: =+AL4 -> 30
B6: =+resumen!J6 -> 30 | D6: =+resumen!C20 -> 0 | G6: =+resumen!D20 -> 0 | J6: =MAX(0,(TODAY()-MAX(AF3,D6))/365*B6) -> 0 | N6: =SUM(AP17:AP28) -> 0 | R6: =+G6+J6-N6 -> 0 | V6: =(AG3-MAX(AF3,D6))/365*B6 -> 30 | Z6: =SUM(C17:AG28) -> 0 | AD6: =+V6-Z6+G6 -> 30 | AL6: =+AL5 -> 30
AL7: =+AL6 -> 30
AL8: =+AL7 -> 30
AL9: =+AL8 -> 30
AL10: =+AL9 -> 30
AL11: =+AL10 -> 30
AL12: =+AL11 -> 30
AL13: =+AL12 -> 30
AL14: =+AL13 -> 30
AL15: =+AL14 -> 30
B16: 2026 | C16: 1 | D16: 2 | E16: 3 | F16: 4 | G16: 5 | H16: 6 | I16: 7 | J16: 8 | K16: 9 | L16: 10 | M16: 11 | N16: 12 | O16: 13 | P16: 14 | Q16: 15 | R16: 16 | S16: 17 | T16: 18 | U16: 19 | V16: 20 | W16: 21 | X16: 22 | Y16: 23 | Z16: 24 | AA16: 25 | AB16: 26 | AC16: 27 | AD16: 28 | AE16: 29 | AF16: 30 | AG16: 31 | AI16: i | AK16: =MAX(41274,TODAY()) -> 46006 | AL16: =DAY(AK16) -> 15 | AP16: =MONTH(AK16) -> 12
B17: Enero | AK17: =SUM(C17:AG17) -> 0 | AL17: =+AK17 -> 0 | AM17: 1 | AP17: =IF($AP$16>AM17,AK17,IF($AP$16=AM17,SUM(C17:INDIRECT(ADDRESS(AR17,$AL$16+2,4,1),1)),0)) -> 0 | AR17: =ROW(AM17) -> 17
B18: Febrero | AK18: =SUM(C18:AG18) -> 0 | AL18: =+AK18+AL17 -> 0 | AM18: 2 | AP18: =IF($AP$16>AM18,AK18,IF($AP$16=AM18,SUM(C18:INDIRECT(ADDRESS(AR18,$AL$16+2,4,1),1)),0)) -> 0 | AR18: =ROW(AM18) -> 18
B19: Marzo | AK19: =SUM(C19:AG19) -> 0 | AL19: =+AK19+AL18 -> 0 | AM19: 3 | AP19: =IF($AP$16>AM19,AK19,IF($AP$16=AM19,SUM(C19:INDIRECT(ADDRESS(AR19,$AL$16+2,4,1),1)),0)) -> 0 | AR19: =ROW(AM19) -> 19
B20: Abril | AK20: =SUM(C20:AG20) -> 0 | AL20: =+AK20+AL19 -> 0 | AM20: 4 | AP20: =IF($AP$16>AM20,AK20,IF($AP$16=AM20,SUM(C20:INDIRECT(ADDRESS(AR20,$AL$16+2,4,1),1)),0)) -> 0 | AR20: =ROW(AM20) -> 20
B21: Mayo | AK21: =SUM(C21:AG21) -> 0 | AL21: =+AK21+AL20 -> 0 | AM21: 5 | AP21: =IF($AP$16>AM21,AK21,IF($AP$16=AM21,SUM(C21:INDIRECT(ADDRESS(AR21,$AL$16+2,4,1),1)),0)) -> 0 | AR21: =ROW(AM21) -> 21
B22: Junio | AK22: =SUM(C22:AG22) -> 0 | AL22: =+AK22+AL21 -> 0 | AM22: 6 | AP22: =IF($AP$16>AM22,AK22,IF($AP$16=AM22,SUM(C22:INDIRECT(ADDRESS(AR22,$AL$16+2,4,1),1)),0)) -> 0 | AR22: =ROW(AM22) -> 22
B23: Julio | AK23: =SUM(C23:AG23) -> 0 | AL23: =+AK23+AL22 -> 0 | AM23: 7 | AP23: =IF($AP$16>AM23,AK23,IF($AP$16=AM23,SUM(C23:INDIRECT(ADDRESS(AR23,$AL$16+2,4,1),1)),0)) -> 0 | AR23: =ROW(AM23) -> 23
B24: Agosto | AK24: =SUM(C24:AG24) -> 0 | AL24: =+AK24+AL23 -> 0 | AM24: 8 | AP24: =IF($AP$16>AM24,AK24,IF($AP$16=AM24,SUM(C24:INDIRECT(ADDRESS(AR24,$AL$16+2,4,1),1)),0)) -> 0 | AR24: =ROW(AM24) -> 24
B25: Septiembre | AK25: =SUM(C25:AG25) -> 0 | AL25: =+AK25+AL24 -> 0 | AM25: 9 | AP25: =IF($AP$16>AM25,AK25,IF($AP$16=AM25,SUM(C25:INDIRECT(ADDRESS(AR25,$AL$16+2,4,1),1)),0)) -> 0 | AR25: =ROW(AM25) -> 25
B26: Octubre | AK26: =SUM(C26:AG26) -> 0 | AL26: =+AK26+AL25 -> 0 | AM26: 10 | AP26: =IF($AP$16>AM26,AK26,IF($AP$16=AM26,SUM(C26:INDIRECT(ADDRESS(AR26,$AL$16+2,4,1),1)),0)) -> 0 | AR26: =ROW(AM26) -> 26
B27: Noviembre | AK27: =SUM(C27:AG27) -> 0 | AL27: =+AK27+AL26 -> 0 | AM27: 11 | AP27: =IF($AP$16>AM27,AK27,IF($AP$16=AM27,SUM(C27:INDIRECT(ADDRESS(AR27,$AL$16+2,4,1),1)),0)) -> 0 | AR27: =ROW(AM27) -> 27
B28: Diciembre | AI28: sábado | AJ28: domingo | AK28: =SUM(C28:AG28) -> 0 | AL28: =+AK28+AL27 -> 0 | AM28: 12 | AP28: =IF($AP$16>AM28,AK28,IF($AP$16=AM28,SUM(C28:INDIRECT(ADDRESS(AR28,$AL$16+2,4,1),1)),0)) -> 0 | AR28: =ROW(AM28) -> 28

Sheet 10
B2: ="Hoja de vacaciones 2026: "&resumen!B21&"" -> Hoja de vacaciones 2026: 10 | X2: =+resumen!E5 -> INDICATOR | AI2: Ç
AF3: 46022 | AG3: 46387 | AL3: Máximo días permitidos
J4: =+resumen!E10 -> A fecha de hoy 15.12.2025. | V4: =+resumen!H10 -> A fecha de 31.12.2026 | AL4: =+V6+G6 -> 30
B5: Vacaciones anuales | D5: Fecha alta | G5: Días pdtes. | J5: Devengados | N5: Realizados | R5: Saldo | V5: Devengados | Z5: Realizados | AD5: Saldo | AL5: =+AL4 -> 30
B6: =+resumen!J6 -> 30 | D6: =+resumen!C21 -> 0 | G6: =+resumen!D21 -> 0 | J6: =MAX(0,(TODAY()-MAX(AF3,D6))/365*B6) -> 0 | N6: =SUM(AP17:AP28) -> 0 | R6: =+G6+J6-N6 -> 0 | V6: =(AG3-MAX(AF3,D6))/365*B6 -> 30 | Z6: =SUM(C17:AG28) -> 0 | AD6: =+V6-Z6+G6 -> 30 | AL6: =+AL5 -> 30
AL7: =+AL6 -> 30
AL8: =+AL7 -> 30
AL9: =+AL8 -> 30
AL10: =+AL9 -> 30
AL11: =+AL10 -> 30
AL12: =+AL11 -> 30
AL13: =+AL12 -> 30
AL14: =+AL13 -> 30
AL15: =+AL14 -> 30
B16: 2026 | C16: 1 | D16: 2 | E16: 3 | F16: 4 | G16: 5 | H16: 6 | I16: 7 | J16: 8 | K16: 9 | L16: 10 | M16: 11 | N16: 12 | O16: 13 | P16: 14 | Q16: 15 | R16: 16 | S16: 17 | T16: 18 | U16: 19 | V16: 20 | W16: 21 | X16: 22 | Y16: 23 | Z16: 24 | AA16: 25 | AB16: 26 | AC16: 27 | AD16: 28 | AE16: 29 | AF16: 30 | AG16: 31 | AI16: i | AK16: =MAX(41274,TODAY()) -> 46006 | AL16: =DAY(AK16) -> 15 | AP16: =MONTH(AK16) -> 12
B17: Enero | AK17: =SUM(C17:AG17) -> 0 | AL17: =+AK17 -> 0 | AM17: 1 | AP17: =IF($AP$16>AM17,AK17,IF($AP$16=AM17,SUM(C17:INDIRECT(ADDRESS(AR17,$AL$16+2,4,1),1)),0)) -> 0 | AR17: =ROW(AM17) -> 17
B18: Febrero | AK18: =SUM(C18:AG18) -> 0 | AL18: =+AK18+AL17 -> 0 | AM18: 2 | AP18: =IF($AP$16>AM18,AK18,IF($AP$16=AM18,SUM(C18:INDIRECT(ADDRESS(AR18,$AL$16+2,4,1),1)),0)) -> 0 | AR18: =ROW(AM18) -> 18
B19: Marzo | AK19: =SUM(C19:AG19) -> 0 | AL19: =+AK19+AL18 -> 0 | AM19: 3 | AP19: =IF($AP$16>AM19,AK19,IF($AP$16=AM19,SUM(C19:INDIRECT(ADDRESS(AR19,$AL$16+2,4,1),1)),0)) -> 0 | AR19: =ROW(AM19) -> 19
B20: Abril | AK20: =SUM(C20:AG20) -> 0 | AL20: =+AK20+AL19 -> 0 | AM20: 4 | AP20: =IF($AP$16>AM20,AK20,IF($AP$16=AM20,SUM(C20:INDIRECT(ADDRESS(AR20,$AL$16+2,4,1),1)),0)) -> 0 | AR20: =ROW(AM20) -> 20
B21: Mayo | AK21: =SUM(C21:AG21) -> 0 | AL21: =+AK21+AL20 -> 0 | AM21: 5 | AP21: =IF($AP$16>AM21,AK21,IF($AP$16=AM21,SUM(C21:INDIRECT(ADDRESS(AR21,$AL$16+2,4,1),1)),0)) -> 0 | AR21: =ROW(AM21) -> 21
B22: Junio | AK22: =SUM(C22:AG22) -> 0 | AL22: =+AK22+AL21 -> 0 | AM22: 6 | AP22: =IF($AP$16>AM22,AK22,IF($AP$16=AM22,SUM(C22:INDIRECT(ADDRESS(AR22,$AL$16+2,4,1),1)),0)) -> 0 | AR22: =ROW(AM22) -> 22
B23: Julio | AK23: =SUM(C23:AG23) -> 0 | AL23: =+AK23+AL22 -> 0 | AM23: 7 | AP23: =IF($AP$16>AM23,AK23,IF($AP$16=AM23,SUM(C23:INDIRECT(ADDRESS(AR23,$AL$16+2,4,1),1)),0)) -> 0 | AR23: =ROW(AM23) -> 23
B24: Agosto | AK24: =SUM(C24:AG24) -> 0 | AL24: =+AK24+AL23 -> 0 | AM24: 8 | AP24: =IF($AP$16>AM24,AK24,IF($AP$16=AM24,SUM(C24:INDIRECT(ADDRESS(AR24,$AL$16+2,4,1),1)),0)) -> 0 | AR24: =ROW(AM24) -> 24
B25: Septiembre | AK25: =SUM(C25:AG25) -> 0 | AL25: =+AK25+AL24 -> 0 | AM25: 9 | AP25: =IF($AP$16>AM25,AK25,IF($AP$16=AM25,SUM(C25:INDIRECT(ADDRESS(AR25,$AL$16+2,4,1),1)),0)) -> 0 | AR25: =ROW(AM25) -> 25
B26: Octubre | AK26: =SUM(C26:AG26) -> 0 | AL26: =+AK26+AL25 -> 0 | AM26: 10 | AP26: =IF($AP$16>AM26,AK26,IF($AP$16=AM26,SUM(C26:INDIRECT(ADDRESS(AR26,$AL$16+2,4,1),1)),0)) -> 0 | AR26: =ROW(AM26) -> 26
B27: Noviembre | AK27: =SUM(C27:AG27) -> 0 | AL27: =+AK27+AL26 -> 0 | AM27: 11 | AP27: =IF($AP$16>AM27,AK27,IF($AP$16=AM27,SUM(C27:INDIRECT(ADDRESS(AR27,$AL$16+2,4,1),1)),0)) -> 0 | AR27: =ROW(AM27) -> 27
B28: Diciembre | AI28: sábado | AJ28: domingo | AK28: =SUM(C28:AG28) -> 0 | AL28: =+AK28+AL27 -> 0 | AM28: 12 | AP28: =IF($AP$16>AM28,AK28,IF($AP$16=AM28,SUM(C28:INDIRECT(ADDRESS(AR28,$AL$16+2,4,1),1)),0)) -> 0 | AR28: =ROW(AM28) -> 28

Sheet 11
B2: ="Hoja de vacaciones 2026: "&resumen!B22&"" -> Hoja de vacaciones 2026: 11 | X2: =+resumen!E5 -> INDICATOR | AI2: Ç
AF3: 46022 | AG3: 46387 | AL3: Máximo días permitidos
J4: =+resumen!E10 -> A fecha de hoy 15.12.2025. | V4: =+resumen!H10 -> A fecha de 31.12.2026 | AL4: =+V6+G6 -> 30
B5: Vacaciones anuales | D5: Fecha alta | G5: Días pdtes. | J5: Devengados | N5: Realizados | R5: Saldo | V5: Devengados | Z5: Realizados | AD5: Saldo | AL5: =+AL4 -> 30
B6: =+resumen!J6 -> 30 | D6: =+resumen!C22 -> 0 | G6: =+resumen!D22 -> 0 | J6: =MAX(0,(TODAY()-MAX(AF3,D6))/365*B6) -> 0 | N6: =SUM(AP17:AP28) -> 0 | R6: =+G6+J6-N6 -> 0 | V6: =(AG3-MAX(AF3,D6))/365*B6 -> 30 | Z6: =SUM(C17:AG28) -> 0 | AD6: =+V6-Z6+G6 -> 30 | AL6: =+AL5 -> 30
AL7: =+AL6 -> 30
AL8: =+AL7 -> 30
AL9: =+AL8 -> 30
AL10: =+AL9 -> 30
AL11: =+AL10 -> 30
AL12: =+AL11 -> 30
AL13: =+AL12 -> 30
AL14: =+AL13 -> 30
AL15: =+AL14 -> 30
B16: 2026 | C16: 1 | D16: 2 | E16: 3 | F16: 4 | G16: 5 | H16: 6 | I16: 7 | J16: 8 | K16: 9 | L16: 10 | M16: 11 | N16: 12 | O16: 13 | P16: 14 | Q16: 15 | R16: 16 | S16: 17 | T16: 18 | U16: 19 | V16: 20 | W16: 21 | X16: 22 | Y16: 23 | Z16: 24 | AA16: 25 | AB16: 26 | AC16: 27 | AD16: 28 | AE16: 29 | AF16: 30 | AG16: 31 | AI16: i | AK16: =MAX(41274,TODAY()) -> 46006 | AL16: =DAY(AK16) -> 15 | AP16: =MONTH(AK16) -> 12
B17: Enero | AK17: =SUM(C17:AG17) -> 0 | AL17: =+AK17 -> 0 | AM17: 1 | AP17: =IF($AP$16>AM17,AK17,IF($AP$16=AM17,SUM(C17:INDIRECT(ADDRESS(AR17,$AL$16+2,4,1),1)),0)) -> 0 | AR17: =ROW(AM17) -> 17
B18: Febrero | AK18: =SUM(C18:AG18) -> 0 | AL18: =+AK18+AL17 -> 0 | AM18: 2 | AP18: =IF($AP$16>AM18,AK18,IF($AP$16=AM18,SUM(C18:INDIRECT(ADDRESS(AR18,$AL$16+2,4,1),1)),0)) -> 0 | AR18: =ROW(AM18) -> 18
B19: Marzo | AK19: =SUM(C19:AG19) -> 0 | AL19: =+AK19+AL18 -> 0 | AM19: 3 | AP19: =IF($AP$16>AM19,AK19,IF($AP$16=AM19,SUM(C19:INDIRECT(ADDRESS(AR19,$AL$16+2,4,1),1)),0)) -> 0 | AR19: =ROW(AM19) -> 19
B20: Abril | AK20: =SUM(C20:AG20) -> 0 | AL20: =+AK20+AL19 -> 0 | AM20: 4 | AP20: =IF($AP$16>AM20,AK20,IF($AP$16=AM20,SUM(C20:INDIRECT(ADDRESS(AR20,$AL$16+2,4,1),1)),0)) -> 0 | AR20: =ROW(AM20) -> 20
B21: Mayo | AK21: =SUM(C21:AG21) -> 0 | AL21: =+AK21+AL20 -> 0 | AM21: 5 | AP21: =IF($AP$16>AM21,AK21,IF($AP$16=AM21,SUM(C21:INDIRECT(ADDRESS(AR21,$AL$16+2,4,1),1)),0)) -> 0 | AR21: =ROW(AM21) -> 21
B22: Junio | AK22: =SUM(C22:AG22) -> 0 | AL22: =+AK22+AL21 -> 0 | AM22: 6 | AP22: =IF($AP$16>AM22,AK22,IF($AP$16=AM22,SUM(C22:INDIRECT(ADDRESS(AR22,$AL$16+2,4,1),1)),0)) -> 0 | AR22: =ROW(AM22) -> 22
B23: Julio | AK23: =SUM(C23:AG23) -> 0 | AL23: =+AK23+AL22 -> 0 | AM23: 7 | AP23: =IF($AP$16>AM23,AK23,IF($AP$16=AM23,SUM(C23:INDIRECT(ADDRESS(AR23,$AL$16+2,4,1),1)),0)) -> 0 | AR23: =ROW(AM23) -> 23
B24: Agosto | AK24: =SUM(C24:AG24) -> 0 | AL24: =+AK24+AL23 -> 0 | AM24: 8 | AP24: =IF($AP$16>AM24,AK24,IF($AP$16=AM24,SUM(C24:INDIRECT(ADDRESS(AR24,$AL$16+2,4,1),1)),0)) -> 0 | AR24: =ROW(AM24) -> 24
B25: Septiembre | AK25: =SUM(C25:AG25) -> 0 | AL25: =+AK25+AL24 -> 0 | AM25: 9 | AP25: =IF($AP$16>AM25,AK25,IF($AP$16=AM25,SUM(C25:INDIRECT(ADDRESS(AR25,$AL$16+2,4,1),1)),0)) -> 0 | AR25: =ROW(AM25) -> 25
B26: Octubre | AK26: =SUM(C26:AG26) -> 0 | AL26: =+AK26+AL25 -> 0 | AM26: 10 | AP26: =IF($AP$16>AM26,AK26,IF($AP$16=AM26,SUM(C26:INDIRECT(ADDRESS(AR26,$AL$16+2,4,1),1)),0)) -> 0 | AR26: =ROW(AM26) -> 26
B27: Noviembre | AK27: =SUM(C27:AG27) -> 0 | AL27: =+AK27+AL26 -> 0 | AM27: 11 | AP27: =IF($AP$16>AM27,AK27,IF($AP$16=AM27,SUM(C27:INDIRECT(ADDRESS(AR27,$AL$16+2,4,1),1)),0)) -> 0 | AR27: =ROW(AM27) -> 27
B28: Diciembre | AI28: sábado | AJ28: domingo | AK28: =SUM(C28:AG28) -> 0 | AL28: =+AK28+AL27 -> 0 | AM28: 12 | AP28: =IF($AP$16>AM28,AK28,IF($AP$16=AM28,SUM(C28:INDIRECT(ADDRESS(AR28,$AL$16+2,4,1),1)),0)) -> 0 | AR28: =ROW(AM28) -> 28

Sheet 12
B2: ="Hoja de vacaciones 2026: "&resumen!B23&"" -> Hoja de vacaciones 2026: 12 | X2: =+resumen!E5 -> INDICATOR | AI2: Ç
AF3: 46022 | AG3: 46387 | AL3: Máximo días permitidos
J4: =+resumen!E10 -> A fecha de hoy 15.12.2025. | V4: =+resumen!H10 -> A fecha de 31.12.2026 | AL4: =+V6+G6 -> 30
B5: Vacaciones anuales | D5: Fecha alta | G5: Días pdtes. | J5: Devengados | N5: Realizados | R5: Saldo | V5: Devengados | Z5: Realizados | AD5: Saldo | AL5: =+AL4 -> 30
B6: =+resumen!J6 -> 30 | D6: =+resumen!C23 -> 0 | G6: =+resumen!D23 -> 0 | J6: =MAX(0,(TODAY()-MAX(AF3,D6))/365*B6) -> 0 | N6: =SUM(AP17:AP28) -> 0 | R6: =+G6+J6-N6 -> 0 | V6: =(AG3-MAX(AF3,D6))/365*B6 -> 30 | Z6: =SUM(C17:AG28) -> 0 | AD6: =+V6-Z6+G6 -> 30 | AL6: =+AL5 -> 30
AL7: =+AL6 -> 30
AL8: =+AL7 -> 30
AL9: =+AL8 -> 30
AL10: =+AL9 -> 30
AL11: =+AL10 -> 30
AL12: =+AL11 -> 30
AL13: =+AL12 -> 30
AL14: =+AL13 -> 30
AL15: =+AL14 -> 30
B16: 2026 | C16: 1 | D16: 2 | E16: 3 | F16: 4 | G16: 5 | H16: 6 | I16: 7 | J16: 8 | K16: 9 | L16: 10 | M16: 11 | N16: 12 | O16: 13 | P16: 14 | Q16: 15 | R16: 16 | S16: 17 | T16: 18 | U16: 19 | V16: 20 | W16: 21 | X16: 22 | Y16: 23 | Z16: 24 | AA16: 25 | AB16: 26 | AC16: 27 | AD16: 28 | AE16: 29 | AF16: 30 | AG16: 31 | AI16: i | AK16: =MAX(41274,TODAY()) -> 46006 | AL16: =DAY(AK16) -> 15 | AP16: =MONTH(AK16) -> 12
B17: Enero | AK17: =SUM(C17:AG17) -> 0 | AL17: =+AK17 -> 0 | AM17: 1 | AP17: =IF($AP$16>AM17,AK17,IF($AP$16=AM17,SUM(C17:INDIRECT(ADDRESS(AR17,$AL$16+2,4,1),1)),0)) -> 0 | AR17: =ROW(AM17) -> 17
B18: Febrero | AK18: =SUM(C18:AG18) -> 0 | AL18: =+AK18+AL17 -> 0 | AM18: 2 | AP18: =IF($AP$16>AM18,AK18,IF($AP$16=AM18,SUM(C18:INDIRECT(ADDRESS(AR18,$AL$16+2,4,1),1)),0)) -> 0 | AR18: =ROW(AM18) -> 18
B19: Marzo | AK19: =SUM(C19:AG19) -> 0 | AL19: =+AK19+AL18 -> 0 | AM19: 3 | AP19: =IF($AP$16>AM19,AK19,IF($AP$16=AM19,SUM(C19:INDIRECT(ADDRESS(AR19,$AL$16+2,4,1),1)),0)) -> 0 | AR19: =ROW(AM19) -> 19
B20: Abril | AK20: =SUM(C20:AG20) -> 0 | AL20: =+AK20+AL19 -> 0 | AM20: 4 | AP20: =IF($AP$16>AM20,AK20,IF($AP$16=AM20,SUM(C20:INDIRECT(ADDRESS(AR20,$AL$16+2,4,1),1)),0)) -> 0 | AR20: =ROW(AM20) -> 20
B21: Mayo | AK21: =SUM(C21:AG21) -> 0 | AL21: =+AK21+AL20 -> 0 | AM21: 5 | AP21: =IF($AP$16>AM21,AK21,IF($AP$16=AM21,SUM(C21:INDIRECT(ADDRESS(AR21,$AL$16+2,4,1),1)),0)) -> 0 | AR21: =ROW(AM21) -> 21
B22: Junio | AK22: =SUM(C22:AG22) -> 0 | AL22: =+AK22+AL21 -> 0 | AM22: 6 | AP22: =IF($AP$16>AM22,AK22,IF($AP$16=AM22,SUM(C22:INDIRECT(ADDRESS(AR22,$AL$16+2,4,1),1)),0)) -> 0 | AR22: =ROW(AM22) -> 22
B23: Julio | AK23: =SUM(C23:AG23) -> 0 | AL23: =+AK23+AL22 -> 0 | AM23: 7 | AP23: =IF($AP$16>AM23,AK23,IF($AP$16=AM23,SUM(C23:INDIRECT(ADDRESS(AR23,$AL$16+2,4,1),1)),0)) -> 0 | AR23: =ROW(AM23) -> 23
B24: Agosto | AK24: =SUM(C24:AG24) -> 0 | AL24: =+AK24+AL23 -> 0 | AM24: 8 | AP24: =IF($AP$16>AM24,AK24,IF($AP$16=AM24,SUM(C24:INDIRECT(ADDRESS(AR24,$AL$16+2,4,1),1)),0)) -> 0 | AR24: =ROW(AM24) -> 24
B25: Septiembre | AK25: =SUM(C25:AG25) -> 0 | AL25: =+AK25+AL24 -> 0 | AM25: 9 | AP25: =IF($AP$16>AM25,AK25,IF($AP$16=AM25,SUM(C25:INDIRECT(ADDRESS(AR25,$AL$16+2,4,1),1)),0)) -> 0 | AR25: =ROW(AM25) -> 25
B26: Octubre | AK26: =SUM(C26:AG26) -> 0 | AL26: =+AK26+AL25 -> 0 | AM26: 10 | AP26: =IF($AP$16>AM26,AK26,IF($AP$16=AM26,SUM(C26:INDIRECT(ADDRESS(AR26,$AL$16+2,4,1),1)),0)) -> 0 | AR26: =ROW(AM26) -> 26
B27: Noviembre | AK27: =SUM(C27:AG27) -> 0 | AL27: =+AK27+AL26 -> 0 | AM27: 11 | AP27: =IF($AP$16>AM27,AK27,IF($AP$16=AM27,SUM(C27:INDIRECT(ADDRESS(AR27,$AL$16+2,4,1),1)),0)) -> 0 | AR27: =ROW(AM27) -> 27
B28: Diciembre | AI28: sábado | AJ28: domingo | AK28: =SUM(C28:AG28) -> 0 | AL28: =+AK28+AL27 -> 0 | AM28: 12 | AP28: =IF($AP$16>AM28,AK28,IF($AP$16=AM28,SUM(C28:INDIRECT(ADDRESS(AR28,$AL$16+2,4,1),1)),0)) -> 0 | AR28: =ROW(AM28) -> 28

Sheet 13
B2: ="Hoja de vacaciones 2026: "&resumen!B24&"" -> Hoja de vacaciones 2026: 13 | X2: =+resumen!E5 -> INDICATOR | AI2: Ç
AF3: 46022 | AG3: 46387 | AL3: Máximo días permitidos
J4: =+resumen!E10 -> A fecha de hoy 15.12.2025. | V4: =+resumen!H10 -> A fecha de 31.12.2026 | AL4: =+V6+G6 -> 30
B5: Vacaciones anuales | D5: Fecha alta | G5: Días pdtes. | J5: Devengados | N5: Realizados | R5: Saldo | V5: Devengados | Z5: Realizados | AD5: Saldo | AL5: =+AL4 -> 30
B6: =+resumen!J6 -> 30 | D6: =+resumen!C24 -> 0 | G6: =+resumen!D24 -> 0 | J6: =MAX(0,(TODAY()-MAX(AF3,D6))/365*B6) -> 0 | N6: =SUM(AP17:AP28) -> 0 | R6: =+G6+J6-N6 -> 0 | V6: =(AG3-MAX(AF3,D6))/365*B6 -> 30 | Z6: =SUM(C17:AG28) -> 0 | AD6: =+V6-Z6+G6 -> 30 | AL6: =+AL5 -> 30
AL7: =+AL6 -> 30
AL8: =+AL7 -> 30
AL9: =+AL8 -> 30
AL10: =+AL9 -> 30
AL11: =+AL10 -> 30
AL12: =+AL11 -> 30
AL13: =+AL12 -> 30
AL14: =+AL13 -> 30
AL15: =+AL14 -> 30
B16: 2026 | C16: 1 | D16: 2 | E16: 3 | F16: 4 | G16: 5 | H16: 6 | I16: 7 | J16: 8 | K16: 9 | L16: 10 | M16: 11 | N16: 12 | O16: 13 | P16: 14 | Q16: 15 | R16: 16 | S16: 17 | T16: 18 | U16: 19 | V16: 20 | W16: 21 | X16: 22 | Y16: 23 | Z16: 24 | AA16: 25 | AB16: 26 | AC16: 27 | AD16: 28 | AE16: 29 | AF16: 30 | AG16: 31 | AI16: i | AK16: =MAX(41274,TODAY()) -> 46006 | AL16: =DAY(AK16) -> 15 | AP16: =MONTH(AK16) -> 12
B17: Enero | AK17: =SUM(C17:AG17) -> 0 | AL17: =+AK17 -> 0 | AM17: 1 | AP17: =IF($AP$16>AM17,AK17,IF($AP$16=AM17,SUM(C17:INDIRECT(ADDRESS(AR17,$AL$16+2,4,1),1)),0)) -> 0 | AR17: =ROW(AM17) -> 17
B18: Febrero | AK18: =SUM(C18:AG18) -> 0 | AL18: =+AK18+AL17 -> 0 | AM18: 2 | AP18: =IF($AP$16>AM18,AK18,IF($AP$16=AM18,SUM(C18:INDIRECT(ADDRESS(AR18,$AL$16+2,4,1),1)),0)) -> 0 | AR18: =ROW(AM18) -> 18
B19: Marzo | AK19: =SUM(C19:AG19) -> 0 | AL19: =+AK19+AL18 -> 0 | AM19: 3 | AP19: =IF($AP$16>AM19,AK19,IF($AP$16=AM19,SUM(C19:INDIRECT(ADDRESS(AR19,$AL$16+2,4,1),1)),0)) -> 0 | AR19: =ROW(AM19) -> 19
B20: Abril | AK20: =SUM(C20:AG20) -> 0 | AL20: =+AK20+AL19 -> 0 | AM20: 4 | AP20: =IF($AP$16>AM20,AK20,IF($AP$16=AM20,SUM(C20:INDIRECT(ADDRESS(AR20,$AL$16+2,4,1),1)),0)) -> 0 | AR20: =ROW(AM20) -> 20
B21: Mayo | AK21: =SUM(C21:AG21) -> 0 | AL21: =+AK21+AL20 -> 0 | AM21: 5 | AP21: =IF($AP$16>AM21,AK21,IF($AP$16=AM21,SUM(C21:INDIRECT(ADDRESS(AR21,$AL$16+2,4,1),1)),0)) -> 0 | AR21: =ROW(AM21) -> 21
B22: Junio | AK22: =SUM(C22:AG22) -> 0 | AL22: =+AK22+AL21 -> 0 | AM22: 6 | AP22: =IF($AP$16>AM22,AK22,IF($AP$16=AM22,SUM(C22:INDIRECT(ADDRESS(AR22,$AL$16+2,4,1),1)),0)) -> 0 | AR22: =ROW(AM22) -> 22
B23: Julio | AK23: =SUM(C23:AG23) -> 0 | AL23: =+AK23+AL22 -> 0 | AM23: 7 | AP23: =IF($AP$16>AM23,AK23,IF($AP$16=AM23,SUM(C23:INDIRECT(ADDRESS(AR23,$AL$16+2,4,1),1)),0)) -> 0 | AR23: =ROW(AM23) -> 23
B24: Agosto | AK24: =SUM(C24:AG24) -> 0 | AL24: =+AK24+AL23 -> 0 | AM24: 8 | AP24: =IF($AP$16>AM24,AK24,IF($AP$16=AM24,SUM(C24:INDIRECT(ADDRESS(AR24,$AL$16+2,4,1),1)),0)) -> 0 | AR24: =ROW(AM24) -> 24
B25: Septiembre | AK25: =SUM(C25:AG25) -> 0 | AL25: =+AK25+AL24 -> 0 | AM25: 9 | AP25: =IF($AP$16>AM25,AK25,IF($AP$16=AM25,SUM(C25:INDIRECT(ADDRESS(AR25,$AL$16+2,4,1),1)),0)) -> 0 | AR25: =ROW(AM25) -> 25
B26: Octubre | AK26: =SUM(C26:AG26) -> 0 | AL26: =+AK26+AL25 -> 0 | AM26: 10 | AP26: =IF($AP$16>AM26,AK26,IF($AP$16=AM26,SUM(C26:INDIRECT(ADDRESS(AR26,$AL$16+2,4,1),1)),0)) -> 0 | AR26: =ROW(AM26) -> 26
B27: Noviembre | AK27: =SUM(C27:AG27) -> 0 | AL27: =+AK27+AL26 -> 0 | AM27: 11 | AP27: =IF($AP$16>AM27,AK27,IF($AP$16=AM27,SUM(C27:INDIRECT(ADDRESS(AR27,$AL$16+2,4,1),1)),0)) -> 0 | AR27: =ROW(AM27) -> 27
B28: Diciembre | AI28: sábado | AJ28: domingo | AK28: =SUM(C28:AG28) -> 0 | AL28: =+AK28+AL27 -> 0 | AM28: 12 | AP28: =IF($AP$16>AM28,AK28,IF($AP$16=AM28,SUM(C28:INDIRECT(ADDRESS(AR28,$AL$16+2,4,1),1)),0)) -> 0 | AR28: =ROW(AM28) -> 28

Sheet 14
B2: ="Hoja de vacaciones 2026: "&resumen!B25&"" -> Hoja de vacaciones 2026: 14 | X2: =+resumen!E5 -> INDICATOR | AI2: Ç
AF3: 46022 | AG3: 46387 | AL3: Máximo días permitidos
J4: =+resumen!E10 -> A fecha de hoy 15.12.2025. | V4: =+resumen!H10 -> A fecha de 31.12.2026 | AL4: =+V6+G6 -> 30
B5: Vacaciones anuales | D5: Fecha alta | G5: Días pdtes. | J5: Devengados | N5: Realizados | R5: Saldo | V5: Devengados | Z5: Realizados | AD5: Saldo | AL5: =+AL4 -> 30
B6: =+resumen!J6 -> 30 | D6: =+resumen!C25 -> 0 | G6: =+resumen!D25 -> 0 | J6: =MAX(0,(TODAY()-MAX(AF3,D6))/365*B6) -> 0 | N6: =SUM(AP17:AP28) -> 0 | R6: =+G6+J6-N6 -> 0 | V6: =(AG3-MAX(AF3,D6))/365*B6 -> 30 | Z6: =SUM(C17:AG28) -> 0 | AD6: =+V6-Z6+G6 -> 30 | AL6: =+AL5 -> 30
AL7: =+AL6 -> 30
AL8: =+AL7 -> 30
AL9: =+AL8 -> 30
AL10: =+AL9 -> 30
AL11: =+AL10 -> 30
AL12: =+AL11 -> 30
AL13: =+AL12 -> 30
AL14: =+AL13 -> 30
AL15: =+AL14 -> 30
B16: 2026 | C16: 1 | D16: 2 | E16: 3 | F16: 4 | G16: 5 | H16: 6 | I16: 7 | J16: 8 | K16: 9 | L16: 10 | M16: 11 | N16: 12 | O16: 13 | P16: 14 | Q16: 15 | R16: 16 | S16: 17 | T16: 18 | U16: 19 | V16: 20 | W16: 21 | X16: 22 | Y16: 23 | Z16: 24 | AA16: 25 | AB16: 26 | AC16: 27 | AD16: 28 | AE16: 29 | AF16: 30 | AG16: 31 | AI16: i | AK16: =MAX(41274,TODAY()) -> 46006 | AL16: =DAY(AK16) -> 15 | AP16: =MONTH(AK16) -> 12
B17: Enero | AK17: =SUM(C17:AG17) -> 0 | AL17: =+AK17 -> 0 | AM17: 1 | AP17: =IF($AP$16>AM17,AK17,IF($AP$16=AM17,SUM(C17:INDIRECT(ADDRESS(AR17,$AL$16+2,4,1),1)),0)) -> 0 | AR17: =ROW(AM17) -> 17
B18: Febrero | AK18: =SUM(C18:AG18) -> 0 | AL18: =+AK18+AL17 -> 0 | AM18: 2 | AP18: =IF($AP$16>AM18,AK18,IF($AP$16=AM18,SUM(C18:INDIRECT(ADDRESS(AR18,$AL$16+2,4,1),1)),0)) -> 0 | AR18: =ROW(AM18) -> 18
B19: Marzo | AK19: =SUM(C19:AG19) -> 0 | AL19: =+AK19+AL18 -> 0 | AM19: 3 | AP19: =IF($AP$16>AM19,AK19,IF($AP$16=AM19,SUM(C19:INDIRECT(ADDRESS(AR19,$AL$16+2,4,1),1)),0)) -> 0 | AR19: =ROW(AM19) -> 19
B20: Abril | AK20: =SUM(C20:AG20) -> 0 | AL20: =+AK20+AL19 -> 0 | AM20: 4 | AP20: =IF($AP$16>AM20,AK20,IF($AP$16=AM20,SUM(C20:INDIRECT(ADDRESS(AR20,$AL$16+2,4,1),1)),0)) -> 0 | AR20: =ROW(AM20) -> 20
B21: Mayo | AK21: =SUM(C21:AG21) -> 0 | AL21: =+AK21+AL20 -> 0 | AM21: 5 | AP21: =IF($AP$16>AM21,AK21,IF($AP$16=AM21,SUM(C21:INDIRECT(ADDRESS(AR21,$AL$16+2,4,1),1)),0)) -> 0 | AR21: =ROW(AM21) -> 21
B22: Junio | AK22: =SUM(C22:AG22) -> 0 | AL22: =+AK22+AL21 -> 0 | AM22: 6 | AP22: =IF($AP$16>AM22,AK22,IF($AP$16=AM22,SUM(C22:INDIRECT(ADDRESS(AR22,$AL$16+2,4,1),1)),0)) -> 0 | AR22: =ROW(AM22) -> 22
B23: Julio | AK23: =SUM(C23:AG23) -> 0 | AL23: =+AK23+AL22 -> 0 | AM23: 7 | AP23: =IF($AP$16>AM23,AK23,IF($AP$16=AM23,SUM(C23:INDIRECT(ADDRESS(AR23,$AL$16+2,4,1),1)),0)) -> 0 | AR23: =ROW(AM23) -> 23
B24: Agosto | AK24: =SUM(C24:AG24) -> 0 | AL24: =+AK24+AL23 -> 0 | AM24: 8 | AP24: =IF($AP$16>AM24,AK24,IF($AP$16=AM24,SUM(C24:INDIRECT(ADDRESS(AR24,$AL$16+2,4,1),1)),0)) -> 0 | AR24: =ROW(AM24) -> 24
B25: Septiembre | AK25: =SUM(C25:AG25) -> 0 | AL25: =+AK25+AL24 -> 0 | AM25: 9 | AP25: =IF($AP$16>AM25,AK25,IF($AP$16=AM25,SUM(C25:INDIRECT(ADDRESS(AR25,$AL$16+2,4,1),1)),0)) -> 0 | AR25: =ROW(AM25) -> 25
B26: Octubre | AK26: =SUM(C26:AG26) -> 0 | AL26: =+AK26+AL25 -> 0 | AM26: 10 | AP26: =IF($AP$16>AM26,AK26,IF($AP$16=AM26,SUM(C26:INDIRECT(ADDRESS(AR26,$AL$16+2,4,1),1)),0)) -> 0 | AR26: =ROW(AM26) -> 26
B27: Noviembre | AK27: =SUM(C27:AG27) -> 0 | AL27: =+AK27+AL26 -> 0 | AM27: 11 | AP27: =IF($AP$16>AM27,AK27,IF($AP$16=AM27,SUM(C27:INDIRECT(ADDRESS(AR27,$AL$16+2,4,1),1)),0)) -> 0 | AR27: =ROW(AM27) -> 27
B28: Diciembre | AI28: sábado | AJ28: domingo | AK28: =SUM(C28:AG28) -> 0 | AL28: =+AK28+AL27 -> 0 | AM28: 12 | AP28: =IF($AP$16>AM28,AK28,IF($AP$16=AM28,SUM(C28:INDIRECT(ADDRESS(AR28,$AL$16+2,4,1),1)),0)) -> 0 | AR28: =ROW(AM28) -> 28

Sheet 15
B2: ="Hoja de vacaciones 2026: "&resumen!B26&"" -> Hoja de vacaciones 2026: 15 | X2: =+resumen!E5 -> INDICATOR | AI2: Ç
AF3: 46022 | AG3: 46387 | AL3: Máximo días permitidos
J4: =+resumen!E10 -> A fecha de hoy 15.12.2025. | V4: =+resumen!H10 -> A fecha de 31.12.2026 | AL4: =+V6+G6 -> 30
B5: Vacaciones anuales | D5: Fecha alta | G5: Días pdtes. | J5: Devengados | N5: Realizados | R5: Saldo | V5: Devengados | Z5: Realizados | AD5: Saldo | AL5: =+AL4 -> 30
B6: =+resumen!J6 -> 30 | D6: =+resumen!C26 -> 0 | G6: =+resumen!D26 -> 0 | J6: =MAX(0,(TODAY()-MAX(AF3,D6))/365*B6) -> 0 | N6: =SUM(AP17:AP28) -> 0 | R6: =+G6+J6-N6 -> 0 | V6: =(AG3-MAX(AF3,D6))/365*B6 -> 30 | Z6: =SUM(C17:AG28) -> 0 | AD6: =+V6-Z6+G6 -> 30 | AL6: =+AL5 -> 30
AL7: =+AL6 -> 30
AL8: =+AL7 -> 30
AL9: =+AL8 -> 30
AL10: =+AL9 -> 30
AL11: =+AL10 -> 30
AL12: =+AL11 -> 30
AL13: =+AL12 -> 30
AL14: =+AL13 -> 30
AL15: =+AL14 -> 30
B16: 2026 | C16: 1 | D16: 2 | E16: 3 | F16: 4 | G16: 5 | H16: 6 | I16: 7 | J16: 8 | K16: 9 | L16: 10 | M16: 11 | N16: 12 | O16: 13 | P16: 14 | Q16: 15 | R16: 16 | S16: 17 | T16: 18 | U16: 19 | V16: 20 | W16: 21 | X16: 22 | Y16: 23 | Z16: 24 | AA16: 25 | AB16: 26 | AC16: 27 | AD16: 28 | AE16: 29 | AF16: 30 | AG16: 31 | AI16: i | AK16: =MAX(41274,TODAY()) -> 46006 | AL16: =DAY(AK16) -> 15 | AP16: =MONTH(AK16) -> 12
B17: Enero | AK17: =SUM(C17:AG17) -> 0 | AL17: =+AK17 -> 0 | AM17: 1 | AP17: =IF($AP$16>AM17,AK17,IF($AP$16=AM17,SUM(C17:INDIRECT(ADDRESS(AR17,$AL$16+2,4,1),1)),0)) -> 0 | AR17: =ROW(AM17) -> 17
B18: Febrero | AK18: =SUM(C18:AG18) -> 0 | AL18: =+AK18+AL17 -> 0 | AM18: 2 | AP18: =IF($AP$16>AM18,AK18,IF($AP$16=AM18,SUM(C18:INDIRECT(ADDRESS(AR18,$AL$16+2,4,1),1)),0)) -> 0 | AR18: =ROW(AM18) -> 18
B19: Marzo | AK19: =SUM(C19:AG19) -> 0 | AL19: =+AK19+AL18 -> 0 | AM19: 3 | AP19: =IF($AP$16>AM19,AK19,IF($AP$16=AM19,SUM(C19:INDIRECT(ADDRESS(AR19,$AL$16+2,4,1),1)),0)) -> 0 | AR19: =ROW(AM19) -> 19
B20: Abril | AK20: =SUM(C20:AG20) -> 0 | AL20: =+AK20+AL19 -> 0 | AM20: 4 | AP20: =IF($AP$16>AM20,AK20,IF($AP$16=AM20,SUM(C20:INDIRECT(ADDRESS(AR20,$AL$16+2,4,1),1)),0)) -> 0 | AR20: =ROW(AM20) -> 20
B21: Mayo | AK21: =SUM(C21:AG21) -> 0 | AL21: =+AK21+AL20 -> 0 | AM21: 5 | AP21: =IF($AP$16>AM21,AK21,IF($AP$16=AM21,SUM(C21:INDIRECT(ADDRESS(AR21,$AL$16+2,4,1),1)),0)) -> 0 | AR21: =ROW(AM21) -> 21
B22: Junio | AK22: =SUM(C22:AG22) -> 0 | AL22: =+AK22+AL21 -> 0 | AM22: 6 | AP22: =IF($AP$16>AM22,AK22,IF($AP$16=AM22,SUM(C22:INDIRECT(ADDRESS(AR22,$AL$16+2,4,1),1)),0)) -> 0 | AR22: =ROW(AM22) -> 22
B23: Julio | AK23: =SUM(C23:AG23) -> 0 | AL23: =+AK23+AL22 -> 0 | AM23: 7 | AP23: =IF($AP$16>AM23,AK23,IF($AP$16=AM23,SUM(C23:INDIRECT(ADDRESS(AR23,$AL$16+2,4,1),1)),0)) -> 0 | AR23: =ROW(AM23) -> 23
B24: Agosto | AK24: =SUM(C24:AG24) -> 0 | AL24: =+AK24+AL23 -> 0 | AM24: 8 | AP24: =IF($AP$16>AM24,AK24,IF($AP$16=AM24,SUM(C24:INDIRECT(ADDRESS(AR24,$AL$16+2,4,1),1)),0)) -> 0 | AR24: =ROW(AM24) -> 24
B25: Septiembre | AK25: =SUM(C25:AG25) -> 0 | AL25: =+AK25+AL24 -> 0 | AM25: 9 | AP25: =IF($AP$16>AM25,AK25,IF($AP$16=AM25,SUM(C25:INDIRECT(ADDRESS(AR25,$AL$16+2,4,1),1)),0)) -> 0 | AR25: =ROW(AM25) -> 25
B26: Octubre | AK26: =SUM(C26:AG26) -> 0 | AL26: =+AK26+AL25 -> 0 | AM26: 10 | AP26: =IF($AP$16>AM26,AK26,IF($AP$16=AM26,SUM(C26:INDIRECT(ADDRESS(AR26,$AL$16+2,4,1),1)),0)) -> 0 | AR26: =ROW(AM26) -> 26
B27: Noviembre | AK27: =SUM(C27:AG27) -> 0 | AL27: =+AK27+AL26 -> 0 | AM27: 11 | AP27: =IF($AP$16>AM27,AK27,IF($AP$16=AM27,SUM(C27:INDIRECT(ADDRESS(AR27,$AL$16+2,4,1),1)),0)) -> 0 | AR27: =ROW(AM27) -> 27
B28: Diciembre | AI28: sábado | AJ28: domingo | AK28: =SUM(C28:AG28) -> 0 | AL28: =+AK28+AL27 -> 0 | AM28: 12 | AP28: =IF($AP$16>AM28,AK28,IF($AP$16=AM28,SUM(C28:INDIRECT(ADDRESS(AR28,$AL$16+2,4,1),1)),0)) -> 0 | AR28: =ROW(AM28) -> 28

Sheet 16
B2: ="Hoja de vacaciones 2026: "&resumen!B27&"" -> Hoja de vacaciones 2026: 16 | X2: =+resumen!E5 -> INDICATOR | AI2: Ç
AF3: 46022 | AG3: 46387 | AL3: Máximo días permitidos
J4: =+resumen!E10 -> A fecha de hoy 15.12.2025. | V4: =+resumen!H10 -> A fecha de 31.12.2026 | AL4: =+V6+G6 -> 30
B5: Vacaciones anuales | D5: Fecha alta | G5: Días pdtes. | J5: Devengados | N5: Realizados | R5: Saldo | V5: Devengados | Z5: Realizados | AD5: Saldo | AL5: =+AL4 -> 30
B6: =+resumen!J6 -> 30 | D6: =+resumen!C27 -> 0 | G6: =+resumen!D27 -> 0 | J6: =MAX(0,(TODAY()-MAX(AF3,D6))/365*B6) -> 0 | N6: =SUM(AP17:AP28) -> 0 | R6: =+G6+J6-N6 -> 0 | V6: =(AG3-MAX(AF3,D6))/365*B6 -> 30 | Z6: =SUM(C17:AG28) -> 0 | AD6: =+V6-Z6+G6 -> 30 | AL6: =+AL5 -> 30
AL7: =+AL6 -> 30
AL8: =+AL7 -> 30
AL9: =+AL8 -> 30
AL10: =+AL9 -> 30
AL11: =+AL10 -> 30
AL12: =+AL11 -> 30
AL13: =+AL12 -> 30
AL14: =+AL13 -> 30
AL15: =+AL14 -> 30
B16: 2026 | C16: 1 | D16: 2 | E16: 3 | F16: 4 | G16: 5 | H16: 6 | I16: 7 | J16: 8 | K16: 9 | L16: 10 | M16: 11 | N16: 12 | O16: 13 | P16: 14 | Q16: 15 | R16: 16 | S16: 17 | T16: 18 | U16: 19 | V16: 20 | W16: 21 | X16: 22 | Y16: 23 | Z16: 24 | AA16: 25 | AB16: 26 | AC16: 27 | AD16: 28 | AE16: 29 | AF16: 30 | AG16: 31 | AI16: i | AK16: =MAX(41274,TODAY()) -> 46006 | AL16: =DAY(AK16) -> 15 | AP16: =MONTH(AK16) -> 12
B17: Enero | AK17: =SUM(C17:AG17) -> 0 | AL17: =+AK17 -> 0 | AM17: 1 | AP17: =IF($AP$16>AM17,AK17,IF($AP$16=AM17,SUM(C17:INDIRECT(ADDRESS(AR17,$AL$16+2,4,1),1)),0)) -> 0 | AR17: =ROW(AM17) -> 17
B18: Febrero | AK18: =SUM(C18:AG18) -> 0 | AL18: =+AK18+AL17 -> 0 | AM18: 2 | AP18: =IF($AP$16>AM18,AK18,IF($AP$16=AM18,SUM(C18:INDIRECT(ADDRESS(AR18,$AL$16+2,4,1),1)),0)) -> 0 | AR18: =ROW(AM18) -> 18
B19: Marzo | AK19: =SUM(C19:AG19) -> 0 | AL19: =+AK19+AL18 -> 0 | AM19: 3 | AP19: =IF($AP$16>AM19,AK19,IF($AP$16=AM19,SUM(C19:INDIRECT(ADDRESS(AR19,$AL$16+2,4,1),1)),0)) -> 0 | AR19: =ROW(AM19) -> 19
B20: Abril | AK20: =SUM(C20:AG20) -> 0 | AL20: =+AK20+AL19 -> 0 | AM20: 4 | AP20: =IF($AP$16>AM20,AK20,IF($AP$16=AM20,SUM(C20:INDIRECT(ADDRESS(AR20,$AL$16+2,4,1),1)),0)) -> 0 | AR20: =ROW(AM20) -> 20
B21: Mayo | AK21: =SUM(C21:AG21) -> 0 | AL21: =+AK21+AL20 -> 0 | AM21: 5 | AP21: =IF($AP$16>AM21,AK21,IF($AP$16=AM21,SUM(C21:INDIRECT(ADDRESS(AR21,$AL$16+2,4,1),1)),0)) -> 0 | AR21: =ROW(AM21) -> 21
B22: Junio | AK22: =SUM(C22:AG22) -> 0 | AL22: =+AK22+AL21 -> 0 | AM22: 6 | AP22: =IF($AP$16>AM22,AK22,IF($AP$16=AM22,SUM(C22:INDIRECT(ADDRESS(AR22,$AL$16+2,4,1),1)),0)) -> 0 | AR22: =ROW(AM22) -> 22
B23: Julio | AK23: =SUM(C23:AG23) -> 0 | AL23: =+AK23+AL22 -> 0 | AM23: 7 | AP23: =IF($AP$16>AM23,AK23,IF($AP$16=AM23,SUM(C23:INDIRECT(ADDRESS(AR23,$AL$16+2,4,1),1)),0)) -> 0 | AR23: =ROW(AM23) -> 23
B24: Agosto | AK24: =SUM(C24:AG24) -> 0 | AL24: =+AK24+AL23 -> 0 | AM24: 8 | AP24: =IF($AP$16>AM24,AK24,IF($AP$16=AM24,SUM(C24:INDIRECT(ADDRESS(AR24,$AL$16+2,4,1),1)),0)) -> 0 | AR24: =ROW(AM24) -> 24
B25: Septiembre | AK25: =SUM(C25:AG25) -> 0 | AL25: =+AK25+AL24 -> 0 | AM25: 9 | AP25: =IF($AP$16>AM25,AK25,IF($AP$16=AM25,SUM(C25:INDIRECT(ADDRESS(AR25,$AL$16+2,4,1),1)),0)) -> 0 | AR25: =ROW(AM25) -> 25
B26: Octubre | AK26: =SUM(C26:AG26) -> 0 | AL26: =+AK26+AL25 -> 0 | AM26: 10 | AP26: =IF($AP$16>AM26,AK26,IF($AP$16=AM26,SUM(C26:INDIRECT(ADDRESS(AR26,$AL$16+2,4,1),1)),0)) -> 0 | AR26: =ROW(AM26) -> 26
B27: Noviembre | AK27: =SUM(C27:AG27) -> 0 | AL27: =+AK27+AL26 -> 0 | AM27: 11 | AP27: =IF($AP$16>AM27,AK27,IF($AP$16=AM27,SUM(C27:INDIRECT(ADDRESS(AR27,$AL$16+2,4,1),1)),0)) -> 0 | AR27: =ROW(AM27) -> 27
B28: Diciembre | AI28: sábado | AJ28: domingo | AK28: =SUM(C28:AG28) -> 0 | AL28: =+AK28+AL27 -> 0 | AM28: 12 | AP28: =IF($AP$16>AM28,AK28,IF($AP$16=AM28,SUM(C28:INDIRECT(ADDRESS(AR28,$AL$16+2,4,1),1)),0)) -> 0 | AR28: =ROW(AM28) -> 28

Sheet 17
B2: ="Hoja de vacaciones 2026: "&resumen!B28&"" -> Hoja de vacaciones 2026: 17 | X2: =+resumen!E5 -> INDICATOR | AI2: Ç
AF3: 46022 | AG3: 46387 | AL3: Máximo días permitidos
J4: =+resumen!E10 -> A fecha de hoy 15.12.2025. | V4: =+resumen!H10 -> A fecha de 31.12.2026 | AL4: =+V6+G6 -> 30
B5: Vacaciones anuales | D5: Fecha alta | G5: Días pdtes. | J5: Devengados | N5: Realizados | R5: Saldo | V5: Devengados | Z5: Realizados | AD5: Saldo | AL5: =+AL4 -> 30
B6: =+resumen!J6 -> 30 | D6: =+resumen!C28 -> 0 | G6: =+resumen!D28 -> 0 | J6: =MAX(0,(TODAY()-MAX(AF3,D6))/365*B6) -> 0 | N6: =SUM(AP17:AP28) -> 0 | R6: =+G6+J6-N6 -> 0 | V6: =(AG3-MAX(AF3,D6))/365*B6 -> 30 | Z6: =SUM(C17:AG28) -> 0 | AD6: =+V6-Z6+G6 -> 30 | AL6: =+AL5 -> 30
AL7: =+AL6 -> 30
AL8: =+AL7 -> 30
AL9: =+AL8 -> 30
AL10: =+AL9 -> 30
AL11: =+AL10 -> 30
AL12: =+AL11 -> 30
AL13: =+AL12 -> 30
AL14: =+AL13 -> 30
AL15: =+AL14 -> 30
B16: 2026 | C16: 1 | D16: 2 | E16: 3 | F16: 4 | G16: 5 | H16: 6 | I16: 7 | J16: 8 | K16: 9 | L16: 10 | M16: 11 | N16: 12 | O16: 13 | P16: 14 | Q16: 15 | R16: 16 | S16: 17 | T16: 18 | U16: 19 | V16: 20 | W16: 21 | X16: 22 | Y16: 23 | Z16: 24 | AA16: 25 | AB16: 26 | AC16: 27 | AD16: 28 | AE16: 29 | AF16: 30 | AG16: 31 | AI16: i | AK16: =MAX(41274,TODAY()) -> 46006 | AL16: =DAY(AK16) -> 15 | AP16: =MONTH(AK16) -> 12
B17: Enero | AK17: =SUM(C17:AG17) -> 0 | AL17: =+AK17 -> 0 | AM17: 1 | AP17: =IF($AP$16>AM17,AK17,IF($AP$16=AM17,SUM(C17:INDIRECT(ADDRESS(AR17,$AL$16+2,4,1),1)),0)) -> 0 | AR17: =ROW(AM17) -> 17
B18: Febrero | AK18: =SUM(C18:AG18) -> 0 | AL18: =+AK18+AL17 -> 0 | AM18: 2 | AP18: =IF($AP$16>AM18,AK18,IF($AP$16=AM18,SUM(C18:INDIRECT(ADDRESS(AR18,$AL$16+2,4,1),1)),0)) -> 0 | AR18: =ROW(AM18) -> 18
B19: Marzo | AK19: =SUM(C19:AG19) -> 0 | AL19: =+AK19+AL18 -> 0 | AM19: 3 | AP19: =IF($AP$16>AM19,AK19,IF($AP$16=AM19,SUM(C19:INDIRECT(ADDRESS(AR19,$AL$16+2,4,1),1)),0)) -> 0 | AR19: =ROW(AM19) -> 19
B20: Abril | AK20: =SUM(C20:AG20) -> 0 | AL20: =+AK20+AL19 -> 0 | AM20: 4 | AP20: =IF($AP$16>AM20,AK20,IF($AP$16=AM20,SUM(C20:INDIRECT(ADDRESS(AR20,$AL$16+2,4,1),1)),0)) -> 0 | AR20: =ROW(AM20) -> 20
B21: Mayo | AK21: =SUM(C21:AG21) -> 0 | AL21: =+AK21+AL20 -> 0 | AM21: 5 | AP21: =IF($AP$16>AM21,AK21,IF($AP$16=AM21,SUM(C21:INDIRECT(ADDRESS(AR21,$AL$16+2,4,1),1)),0)) -> 0 | AR21: =ROW(AM21) -> 21
B22: Junio | AK22: =SUM(C22:AG22) -> 0 | AL22: =+AK22+AL21 -> 0 | AM22: 6 | AP22: =IF($AP$16>AM22,AK22,IF($AP$16=AM22,SUM(C22:INDIRECT(ADDRESS(AR22,$AL$16+2,4,1),1)),0)) -> 0 | AR22: =ROW(AM22) -> 22
B23: Julio | AK23: =SUM(C23:AG23) -> 0 | AL23: =+AK23+AL22 -> 0 | AM23: 7 | AP23: =IF($AP$16>AM23,AK23,IF($AP$16=AM23,SUM(C23:INDIRECT(ADDRESS(AR23,$AL$16+2,4,1),1)),0)) -> 0 | AR23: =ROW(AM23) -> 23
B24: Agosto | AK24: =SUM(C24:AG24) -> 0 | AL24: =+AK24+AL23 -> 0 | AM24: 8 | AP24: =IF($AP$16>AM24,AK24,IF($AP$16=AM24,SUM(C24:INDIRECT(ADDRESS(AR24,$AL$16+2,4,1),1)),0)) -> 0 | AR24: =ROW(AM24) -> 24
B25: Septiembre | AK25: =SUM(C25:AG25) -> 0 | AL25: =+AK25+AL24 -> 0 | AM25: 9 | AP25: =IF($AP$16>AM25,AK25,IF($AP$16=AM25,SUM(C25:INDIRECT(ADDRESS(AR25,$AL$16+2,4,1),1)),0)) -> 0 | AR25: =ROW(AM25) -> 25
B26: Octubre | AK26: =SUM(C26:AG26) -> 0 | AL26: =+AK26+AL25 -> 0 | AM26: 10 | AP26: =IF($AP$16>AM26,AK26,IF($AP$16=AM26,SUM(C26:INDIRECT(ADDRESS(AR26,$AL$16+2,4,1),1)),0)) -> 0 | AR26: =ROW(AM26) -> 26
B27: Noviembre | AK27: =SUM(C27:AG27) -> 0 | AL27: =+AK27+AL26 -> 0 | AM27: 11 | AP27: =IF($AP$16>AM27,AK27,IF($AP$16=AM27,SUM(C27:INDIRECT(ADDRESS(AR27,$AL$16+2,4,1),1)),0)) -> 0 | AR27: =ROW(AM27) -> 27
B28: Diciembre | AI28: sábado | AJ28: domingo | AK28: =SUM(C28:AG28) -> 0 | AL28: =+AK28+AL27 -> 0 | AM28: 12 | AP28: =IF($AP$16>AM28,AK28,IF($AP$16=AM28,SUM(C28:INDIRECT(ADDRESS(AR28,$AL$16+2,4,1),1)),0)) -> 0 | AR28: =ROW(AM28) -> 28

Sheet 18
B2: ="Hoja de vacaciones 2026: "&resumen!B29&"" -> Hoja de vacaciones 2026: 18 | X2: =+resumen!E5 -> INDICATOR | AI2: Ç
AF3: 46022 | AG3: 46387 | AL3: Máximo días permitidos
J4: =+resumen!E10 -> A fecha de hoy 15.12.2025. | V4: =+resumen!H10 -> A fecha de 31.12.2026 | AL4: =+V6+G6 -> 30
B5: Vacaciones anuales | D5: Fecha alta | G5: Días pdtes. | J5: Devengados | N5: Realizados | R5: Saldo | V5: Devengados | Z5: Realizados | AD5: Saldo | AL5: =+AL4 -> 30
B6: =+resumen!J6 -> 30 | D6: =+resumen!C29 -> 0 | G6: =+resumen!D29 -> 0 | J6: =MAX(0,(TODAY()-MAX(AF3,D6))/365*B6) -> 0 | N6: =SUM(AP17:AP28) -> 0 | R6: =+G6+J6-N6 -> 0 | V6: =(AG3-MAX(AF3,D6))/365*B6 -> 30 | Z6: =SUM(C17:AG28) -> 0 | AD6: =+V6-Z6+G6 -> 30 | AL6: =+AL5 -> 30
AL7: =+AL6 -> 30
AL8: =+AL7 -> 30
AL9: =+AL8 -> 30
AL10: =+AL9 -> 30
AL11: =+AL10 -> 30
AL12: =+AL11 -> 30
AL13: =+AL12 -> 30
AL14: =+AL13 -> 30
AL15: =+AL14 -> 30
B16: 2026 | C16: 1 | D16: 2 | E16: 3 | F16: 4 | G16: 5 | H16: 6 | I16: 7 | J16: 8 | K16: 9 | L16: 10 | M16: 11 | N16: 12 | O16: 13 | P16: 14 | Q16: 15 | R16: 16 | S16: 17 | T16: 18 | U16: 19 | V16: 20 | W16: 21 | X16: 22 | Y16: 23 | Z16: 24 | AA16: 25 | AB16: 26 | AC16: 27 | AD16: 28 | AE16: 29 | AF16: 30 | AG16: 31 | AI16: i | AK16: =MAX(41274,TODAY()) -> 46006 | AL16: =DAY(AK16) -> 15 | AP16: =MONTH(AK16) -> 12
B17: Enero | AK17: =SUM(C17:AG17) -> 0 | AL17: =+AK17 -> 0 | AM17: 1 | AP17: =IF($AP$16>AM17,AK17,IF($AP$16=AM17,SUM(C17:INDIRECT(ADDRESS(AR17,$AL$16+2,4,1),1)),0)) -> 0 | AR17: =ROW(AM17) -> 17
B18: Febrero | AK18: =SUM(C18:AG18) -> 0 | AL18: =+AK18+AL17 -> 0 | AM18: 2 | AP18: =IF($AP$16>AM18,AK18,IF($AP$16=AM18,SUM(C18:INDIRECT(ADDRESS(AR18,$AL$16+2,4,1),1)),0)) -> 0 | AR18: =ROW(AM18) -> 18
B19: Marzo | AK19: =SUM(C19:AG19) -> 0 | AL19: =+AK19+AL18 -> 0 | AM19: 3 | AP19: =IF($AP$16>AM19,AK19,IF($AP$16=AM19,SUM(C19:INDIRECT(ADDRESS(AR19,$AL$16+2,4,1),1)),0)) -> 0 | AR19: =ROW(AM19) -> 19
B20: Abril | AK20: =SUM(C20:AG20) -> 0 | AL20: =+AK20+AL19 -> 0 | AM20: 4 | AP20: =IF($AP$16>AM20,AK20,IF($AP$16=AM20,SUM(C20:INDIRECT(ADDRESS(AR20,$AL$16+2,4,1),1)),0)) -> 0 | AR20: =ROW(AM20) -> 20
B21: Mayo | AK21: =SUM(C21:AG21) -> 0 | AL21: =+AK21+AL20 -> 0 | AM21: 5 | AP21: =IF($AP$16>AM21,AK21,IF($AP$16=AM21,SUM(C21:INDIRECT(ADDRESS(AR21,$AL$16+2,4,1),1)),0)) -> 0 | AR21: =ROW(AM21) -> 21
B22: Junio | AK22: =SUM(C22:AG22) -> 0 | AL22: =+AK22+AL21 -> 0 | AM22: 6 | AP22: =IF($AP$16>AM22,AK22,IF($AP$16=AM22,SUM(C22:INDIRECT(ADDRESS(AR22,$AL$16+2,4,1),1)),0)) -> 0 | AR22: =ROW(AM22) -> 22
B23: Julio | AK23: =SUM(C23:AG23) -> 0 | AL23: =+AK23+AL22 -> 0 | AM23: 7 | AP23: =IF($AP$16>AM23,AK23,IF($AP$16=AM23,SUM(C23:INDIRECT(ADDRESS(AR23,$AL$16+2,4,1),1)),0)) -> 0 | AR23: =ROW(AM23) -> 23
B24: Agosto | AK24: =SUM(C24:AG24) -> 0 | AL24: =+AK24+AL23 -> 0 | AM24: 8 | AP24: =IF($AP$16>AM24,AK24,IF($AP$16=AM24,SUM(C24:INDIRECT(ADDRESS(AR24,$AL$16+2,4,1),1)),0)) -> 0 | AR24: =ROW(AM24) -> 24
B25: Septiembre | AK25: =SUM(C25:AG25) -> 0 | AL25: =+AK25+AL24 -> 0 | AM25: 9 | AP25: =IF($AP$16>AM25,AK25,IF($AP$16=AM25,SUM(C25:INDIRECT(ADDRESS(AR25,$AL$16+2,4,1),1)),0)) -> 0 | AR25: =ROW(AM25) -> 25
B26: Octubre | AK26: =SUM(C26:AG26) -> 0 | AL26: =+AK26+AL25 -> 0 | AM26: 10 | AP26: =IF($AP$16>AM26,AK26,IF($AP$16=AM26,SUM(C26:INDIRECT(ADDRESS(AR26,$AL$16+2,4,1),1)),0)) -> 0 | AR26: =ROW(AM26) -> 26
B27: Noviembre | AK27: =SUM(C27:AG27) -> 0 | AL27: =+AK27+AL26 -> 0 | AM27: 11 | AP27: =IF($AP$16>AM27,AK27,IF($AP$16=AM27,SUM(C27:INDIRECT(ADDRESS(AR27,$AL$16+2,4,1),1)),0)) -> 0 | AR27: =ROW(AM27) -> 27
B28: Diciembre | AI28: sábado | AJ28: domingo | AK28: =SUM(C28:AG28) -> 0 | AL28: =+AK28+AL27 -> 0 | AM28: 12 | AP28: =IF($AP$16>AM28,AK28,IF($AP$16=AM28,SUM(C28:INDIRECT(ADDRESS(AR28,$AL$16+2,4,1),1)),0)) -> 0 | AR28: =ROW(AM28) -> 28

Sheet 19
B2: ="Hoja de vacaciones 2026: "&resumen!B30&"" -> Hoja de vacaciones 2026: 19 | X2: =+resumen!E5 -> INDICATOR | AI2: Ç
AF3: 46022 | AG3: 46387 | AL3: Máximo días permitidos
J4: =+resumen!E10 -> A fecha de hoy 15.12.2025. | V4: =+resumen!H10 -> A fecha de 31.12.2026 | AL4: =+V6+G6 -> 30
B5: Vacaciones anuales | D5: Fecha alta | G5: Días pdtes. | J5: Devengados | N5: Realizados | R5: Saldo | V5: Devengados | Z5: Realizados | AD5: Saldo | AL5: =+AL4 -> 30
B6: =+resumen!J6 -> 30 | D6: =+resumen!C30 -> 0 | G6: =+resumen!D30 -> 0 | J6: =MAX(0,(TODAY()-MAX(AF3,D6))/365*B6) -> 0 | N6: =SUM(AP17:AP28) -> 0 | R6: =+G6+J6-N6 -> 0 | V6: =(AG3-MAX(AF3,D6))/365*B6 -> 30 | Z6: =SUM(C17:AG28) -> 0 | AD6: =+V6-Z6+G6 -> 30 | AL6: =+AL5 -> 30
AL7: =+AL6 -> 30
AL8: =+AL7 -> 30
AL9: =+AL8 -> 30
AL10: =+AL9 -> 30
AL11: =+AL10 -> 30
AL12: =+AL11 -> 30
AL13: =+AL12 -> 30
AL14: =+AL13 -> 30
AL15: =+AL14 -> 30
B16: 2026 | C16: 1 | D16: 2 | E16: 3 | F16: 4 | G16: 5 | H16: 6 | I16: 7 | J16: 8 | K16: 9 | L16: 10 | M16: 11 | N16: 12 | O16: 13 | P16: 14 | Q16: 15 | R16: 16 | S16: 17 | T16: 18 | U16: 19 | V16: 20 | W16: 21 | X16: 22 | Y16: 23 | Z16: 24 | AA16: 25 | AB16: 26 | AC16: 27 | AD16: 28 | AE16: 29 | AF16: 30 | AG16: 31 | AI16: i | AK16: =MAX(41274,TODAY()) -> 46006 | AL16: =DAY(AK16) -> 15 | AP16: =MONTH(AK16) -> 12
B17: Enero | AK17: =SUM(C17:AG17) -> 0 | AL17: =+AK17 -> 0 | AM17: 1 | AP17: =IF($AP$16>AM17,AK17,IF($AP$16=AM17,SUM(C17:INDIRECT(ADDRESS(AR17,$AL$16+2,4,1),1)),0)) -> 0 | AR17: =ROW(AM17) -> 17
B18: Febrero | AK18: =SUM(C18:AG18) -> 0 | AL18: =+AK18+AL17 -> 0 | AM18: 2 | AP18: =IF($AP$16>AM18,AK18,IF($AP$16=AM18,SUM(C18:INDIRECT(ADDRESS(AR18,$AL$16+2,4,1),1)),0)) -> 0 | AR18: =ROW(AM18) -> 18
B19: Marzo | AK19: =SUM(C19:AG19) -> 0 | AL19: =+AK19+AL18 -> 0 | AM19: 3 | AP19: =IF($AP$16>AM19,AK19,IF($AP$16=AM19,SUM(C19:INDIRECT(ADDRESS(AR19,$AL$16+2,4,1),1)),0)) -> 0 | AR19: =ROW(AM19) -> 19
B20: Abril | AK20: =SUM(C20:AG20) -> 0 | AL20: =+AK20+AL19 -> 0 | AM20: 4 | AP20: =IF($AP$16>AM20,AK20,IF($AP$16=AM20,SUM(C20:INDIRECT(ADDRESS(AR20,$AL$16+2,4,1),1)),0)) -> 0 | AR20: =ROW(AM20) -> 20
B21: Mayo | AK21: =SUM(C21:AG21) -> 0 | AL21: =+AK21+AL20 -> 0 | AM21: 5 | AP21: =IF($AP$16>AM21,AK21,IF($AP$16=AM21,SUM(C21:INDIRECT(ADDRESS(AR21,$AL$16+2,4,1),1)),0)) -> 0 | AR21: =ROW(AM21) -> 21
B22: Junio | AK22: =SUM(C22:AG22) -> 0 | AL22: =+AK22+AL21 -> 0 | AM22: 6 | AP22: =IF($AP$16>AM22,AK22,IF($AP$16=AM22,SUM(C22:INDIRECT(ADDRESS(AR22,$AL$16+2,4,1),1)),0)) -> 0 | AR22: =ROW(AM22) -> 22
B23: Julio | AK23: =SUM(C23:AG23) -> 0 | AL23: =+AK23+AL22 -> 0 | AM23: 7 | AP23: =IF($AP$16>AM23,AK23,IF($AP$16=AM23,SUM(C23:INDIRECT(ADDRESS(AR23,$AL$16+2,4,1),1)),0)) -> 0 | AR23: =ROW(AM23) -> 23
B24: Agosto | AK24: =SUM(C24:AG24) -> 0 | AL24: =+AK24+AL23 -> 0 | AM24: 8 | AP24: =IF($AP$16>AM24,AK24,IF($AP$16=AM24,SUM(C24:INDIRECT(ADDRESS(AR24,$AL$16+2,4,1),1)),0)) -> 0 | AR24: =ROW(AM24) -> 24
B25: Septiembre | AK25: =SUM(C25:AG25) -> 0 | AL25: =+AK25+AL24 -> 0 | AM25: 9 | AP25: =IF($AP$16>AM25,AK25,IF($AP$16=AM25,SUM(C25:INDIRECT(ADDRESS(AR25,$AL$16+2,4,1),1)),0)) -> 0 | AR25: =ROW(AM25) -> 25
B26: Octubre | AK26: =SUM(C26:AG26) -> 0 | AL26: =+AK26+AL25 -> 0 | AM26: 10 | AP26: =IF($AP$16>AM26,AK26,IF($AP$16=AM26,SUM(C26:INDIRECT(ADDRESS(AR26,$AL$16+2,4,1),1)),0)) -> 0 | AR26: =ROW(AM26) -> 26
B27: Noviembre | AK27: =SUM(C27:AG27) -> 0 | AL27: =+AK27+AL26 -> 0 | AM27: 11 | AP27: =IF($AP$16>AM27,AK27,IF($AP$16=AM27,SUM(C27:INDIRECT(ADDRESS(AR27,$AL$16+2,4,1),1)),0)) -> 0 | AR27: =ROW(AM27) -> 27
B28: Diciembre | AI28: sábado | AJ28: domingo | AK28: =SUM(C28:AG28) -> 0 | AL28: =+AK28+AL27 -> 0 | AM28: 12 | AP28: =IF($AP$16>AM28,AK28,IF($AP$16=AM28,SUM(C28:INDIRECT(ADDRESS(AR28,$AL$16+2,4,1),1)),0)) -> 0 | AR28: =ROW(AM28) -> 28

Sheet 20
B2: ="Hoja de vacaciones 2026: "&resumen!B31&"" -> Hoja de vacaciones 2026: 20 | X2: =+resumen!E5 -> INDICATOR | AI2: Ç
AF3: 46022 | AG3: 46387 | AL3: Máximo días permitidos
J4: =+resumen!E10 -> A fecha de hoy 15.12.2025. | V4: =+resumen!H10 -> A fecha de 31.12.2026 | AL4: =+V6+G6 -> 30
B5: Vacaciones anuales | D5: Fecha alta | G5: Días pdtes. | J5: Devengados | N5: Realizados | R5: Saldo | V5: Devengados | Z5: Realizados | AD5: Saldo | AL5: =+AL4 -> 30
B6: =+resumen!J6 -> 30 | D6: =+resumen!C31 -> 0 | G6: =+resumen!D31 -> 0 | J6: =MAX(0,(TODAY()-MAX(AF3,D6))/365*B6) -> 0 | N6: =SUM(AP17:AP28) -> 0 | R6: =+G6+J6-N6 -> 0 | V6: =(AG3-MAX(AF3,D6))/365*B6 -> 30 | Z6: =SUM(C17:AG28) -> 0 | AD6: =+V6-Z6+G6 -> 30 | AL6: =+AL5 -> 30
AL7: =+AL6 -> 30
AL8: =+AL7 -> 30
AL9: =+AL8 -> 30
AL10: =+AL9 -> 30
AL11: =+AL10 -> 30
AL12: =+AL11 -> 30
AL13: =+AL12 -> 30
AL14: =+AL13 -> 30
AL15: =+AL14 -> 30
B16: 2026 | C16: 1 | D16: 2 | E16: 3 | F16: 4 | G16: 5 | H16: 6 | I16: 7 | J16: 8 | K16: 9 | L16: 10 | M16: 11 | N16: 12 | O16: 13 | P16: 14 | Q16: 15 | R16: 16 | S16: 17 | T16: 18 | U16: 19 | V16: 20 | W16: 21 | X16: 22 | Y16: 23 | Z16: 24 | AA16: 25 | AB16: 26 | AC16: 27 | AD16: 28 | AE16: 29 | AF16: 30 | AG16: 31 | AI16: i | AK16: =MAX(41274,TODAY()) -> 46006 | AL16: =DAY(AK16) -> 15 | AP16: =MONTH(AK16) -> 12
B17: Enero | AK17: =SUM(C17:AG17) -> 0 | AL17: =+AK17 -> 0 | AM17: 1 | AP17: =IF($AP$16>AM17,AK17,IF($AP$16=AM17,SUM(C17:INDIRECT(ADDRESS(AR17,$AL$16+2,4,1),1)),0)) -> 0 | AR17: =ROW(AM17) -> 17
B18: Febrero | AK18: =SUM(C18:AG18) -> 0 | AL18: =+AK18+AL17 -> 0 | AM18: 2 | AP18: =IF($AP$16>AM18,AK18,IF($AP$16=AM18,SUM(C18:INDIRECT(ADDRESS(AR18,$AL$16+2,4,1),1)),0)) -> 0 | AR18: =ROW(AM18) -> 18
B19: Marzo | AK19: =SUM(C19:AG19) -> 0 | AL19: =+AK19+AL18 -> 0 | AM19: 3 | AP19: =IF($AP$16>AM19,AK19,IF($AP$16=AM19,SUM(C19:INDIRECT(ADDRESS(AR19,$AL$16+2,4,1),1)),0)) -> 0 | AR19: =ROW(AM19) -> 19
B20: Abril | AK20: =SUM(C20:AG20) -> 0 | AL20: =+AK20+AL19 -> 0 | AM20: 4 | AP20: =IF($AP$16>AM20,AK20,IF($AP$16=AM20,SUM(C20:INDIRECT(ADDRESS(AR20,$AL$16+2,4,1),1)),0)) -> 0 | AR20: =ROW(AM20) -> 20
B21: Mayo | AK21: =SUM(C21:AG21) -> 0 | AL21: =+AK21+AL20 -> 0 | AM21: 5 | AP21: =IF($AP$16>AM21,AK21,IF($AP$16=AM21,SUM(C21:INDIRECT(ADDRESS(AR21,$AL$16+2,4,1),1)),0)) -> 0 | AR21: =ROW(AM21) -> 21
B22: Junio | AK22: =SUM(C22:AG22) -> 0 | AL22: =+AK22+AL21 -> 0 | AM22: 6 | AP22: =IF($AP$16>AM22,AK22,IF($AP$16=AM22,SUM(C22:INDIRECT(ADDRESS(AR22,$AL$16+2,4,1),1)),0)) -> 0 | AR22: =ROW(AM22) -> 22
B23: Julio | AK23: =SUM(C23:AG23) -> 0 | AL23: =+AK23+AL22 -> 0 | AM23: 7 | AP23: =IF($AP$16>AM23,AK23,IF($AP$16=AM23,SUM(C23:INDIRECT(ADDRESS(AR23,$AL$16+2,4,1),1)),0)) -> 0 | AR23: =ROW(AM23) -> 23
B24: Agosto | AK24: =SUM(C24:AG24) -> 0 | AL24: =+AK24+AL23 -> 0 | AM24: 8 | AP24: =IF($AP$16>AM24,AK24,IF($AP$16=AM24,SUM(C24:INDIRECT(ADDRESS(AR24,$AL$16+2,4,1),1)),0)) -> 0 | AR24: =ROW(AM24) -> 24
B25: Septiembre | AK25: =SUM(C25:AG25) -> 0 | AL25: =+AK25+AL24 -> 0 | AM25: 9 | AP25: =IF($AP$16>AM25,AK25,IF($AP$16=AM25,SUM(C25:INDIRECT(ADDRESS(AR25,$AL$16+2,4,1),1)),0)) -> 0 | AR25: =ROW(AM25) -> 25
B26: Octubre | AK26: =SUM(C26:AG26) -> 0 | AL26: =+AK26+AL25 -> 0 | AM26: 10 | AP26: =IF($AP$16>AM26,AK26,IF($AP$16=AM26,SUM(C26:INDIRECT(ADDRESS(AR26,$AL$16+2,4,1),1)),0)) -> 0 | AR26: =ROW(AM26) -> 26
B27: Noviembre | AK27: =SUM(C27:AG27) -> 0 | AL27: =+AK27+AL26 -> 0 | AM27: 11 | AP27: =IF($AP$16>AM27,AK27,IF($AP$16=AM27,SUM(C27:INDIRECT(ADDRESS(AR27,$AL$16+2,4,1),1)),0)) -> 0 | AR27: =ROW(AM27) -> 27
B28: Diciembre | AI28: sábado | AJ28: domingo | AK28: =SUM(C28:AG28) -> 0 | AL28: =+AK28+AL27 -> 0 | AM28: 12 | AP28: =IF($AP$16>AM28,AK28,IF($AP$16=AM28,SUM(C28:INDIRECT(ADDRESS(AR28,$AL$16+2,4,1),1)),0)) -> 0 | AR28: =ROW(AM28) -> 28

Sheet 21
B2: ="Hoja de vacaciones 2026: "&resumen!B32&"" -> Hoja de vacaciones 2026: 21 | X2: =+resumen!E5 -> INDICATOR | AI2: Ç
AF3: 46022 | AG3: 46387 | AL3: Máximo días permitidos
J4: =+resumen!E10 -> A fecha de hoy 15.12.2025. | V4: =+resumen!H10 -> A fecha de 31.12.2026 | AL4: =+V6+G6 -> 30
B5: Vacaciones anuales | D5: Fecha alta | G5: Días pdtes. | J5: Devengados | N5: Realizados | R5: Saldo | V5: Devengados | Z5: Realizados | AD5: Saldo | AL5: =+AL4 -> 30
B6: =+resumen!J6 -> 30 | D6: =+resumen!C32 -> 0 | G6: =+resumen!D32 -> 0 | J6: =MAX(0,(TODAY()-MAX(AF3,D6))/365*B6) -> 0 | N6: =SUM(AP17:AP28) -> 0 | R6: =+G6+J6-N6 -> 0 | V6: =(AG3-MAX(AF3,D6))/365*B6 -> 30 | Z6: =SUM(C17:AG28) -> 0 | AD6: =+V6-Z6+G6 -> 30 | AL6: =+AL5 -> 30
AL7: =+AL6 -> 30
AL8: =+AL7 -> 30
AL9: =+AL8 -> 30
AL10: =+AL9 -> 30
AL11: =+AL10 -> 30
AL12: =+AL11 -> 30
AL13: =+AL12 -> 30
AL14: =+AL13 -> 30
AL15: =+AL14 -> 30
B16: 2026 | C16: 1 | D16: 2 | E16: 3 | F16: 4 | G16: 5 | H16: 6 | I16: 7 | J16: 8 | K16: 9 | L16: 10 | M16: 11 | N16: 12 | O16: 13 | P16: 14 | Q16: 15 | R16: 16 | S16: 17 | T16: 18 | U16: 19 | V16: 20 | W16: 21 | X16: 22 | Y16: 23 | Z16: 24 | AA16: 25 | AB16: 26 | AC16: 27 | AD16: 28 | AE16: 29 | AF16: 30 | AG16: 31 | AI16: i | AK16: =MAX(41274,TODAY()) -> 46006 | AL16: =DAY(AK16) -> 15 | AP16: =MONTH(AK16) -> 12
B17: Enero | AK17: =SUM(C17:AG17) -> 0 | AL17: =+AK17 -> 0 | AM17: 1 | AP17: =IF($AP$16>AM17,AK17,IF($AP$16=AM17,SUM(C17:INDIRECT(ADDRESS(AR17,$AL$16+2,4,1),1)),0)) -> 0 | AR17: =ROW(AM17) -> 17
B18: Febrero | AK18: =SUM(C18:AG18) -> 0 | AL18: =+AK18+AL17 -> 0 | AM18: 2 | AP18: =IF($AP$16>AM18,AK18,IF($AP$16=AM18,SUM(C18:INDIRECT(ADDRESS(AR18,$AL$16+2,4,1),1)),0)) -> 0 | AR18: =ROW(AM18) -> 18
B19: Marzo | AK19: =SUM(C19:AG19) -> 0 | AL19: =+AK19+AL18 -> 0 | AM19: 3 | AP19: =IF($AP$16>AM19,AK19,IF($AP$16=AM19,SUM(C19:INDIRECT(ADDRESS(AR19,$AL$16+2,4,1),1)),0)) -> 0 | AR19: =ROW(AM19) -> 19
B20: Abril | AK20: =SUM(C20:AG20) -> 0 | AL20: =+AK20+AL19 -> 0 | AM20: 4 | AP20: =IF($AP$16>AM20,AK20,IF($AP$16=AM20,SUM(C20:INDIRECT(ADDRESS(AR20,$AL$16+2,4,1),1)),0)) -> 0 | AR20: =ROW(AM20) -> 20
B21: Mayo | AK21: =SUM(C21:AG21) -> 0 | AL21: =+AK21+AL20 -> 0 | AM21: 5 | AP21: =IF($AP$16>AM21,AK21,IF($AP$16=AM21,SUM(C21:INDIRECT(ADDRESS(AR21,$AL$16+2,4,1),1)),0)) -> 0 | AR21: =ROW(AM21) -> 21
B22: Junio | AK22: =SUM(C22:AG22) -> 0 | AL22: =+AK22+AL21 -> 0 | AM22: 6 | AP22: =IF($AP$16>AM22,AK22,IF($AP$16=AM22,SUM(C22:INDIRECT(ADDRESS(AR22,$AL$16+2,4,1),1)),0)) -> 0 | AR22: =ROW(AM22) -> 22
B23: Julio | AK23: =SUM(C23:AG23) -> 0 | AL23: =+AK23+AL22 -> 0 | AM23: 7 | AP23: =IF($AP$16>AM23,AK23,IF($AP$16=AM23,SUM(C23:INDIRECT(ADDRESS(AR23,$AL$16+2,4,1),1)),0)) -> 0 | AR23: =ROW(AM23) -> 23
B24: Agosto | AK24: =SUM(C24:AG24) -> 0 | AL24: =+AK24+AL23 -> 0 | AM24: 8 | AP24: =IF($AP$16>AM24,AK24,IF($AP$16=AM24,SUM(C24:INDIRECT(ADDRESS(AR24,$AL$16+2,4,1),1)),0)) -> 0 | AR24: =ROW(AM24) -> 24
B25: Septiembre | AK25: =SUM(C25:AG25) -> 0 | AL25: =+AK25+AL24 -> 0 | AM25: 9 | AP25: =IF($AP$16>AM25,AK25,IF($AP$16=AM25,SUM(C25:INDIRECT(ADDRESS(AR25,$AL$16+2,4,1),1)),0)) -> 0 | AR25: =ROW(AM25) -> 25
B26: Octubre | AK26: =SUM(C26:AG26) -> 0 | AL26: =+AK26+AL25 -> 0 | AM26: 10 | AP26: =IF($AP$16>AM26,AK26,IF($AP$16=AM26,SUM(C26:INDIRECT(ADDRESS(AR26,$AL$16+2,4,1),1)),0)) -> 0 | AR26: =ROW(AM26) -> 26
B27: Noviembre | AK27: =SUM(C27:AG27) -> 0 | AL27: =+AK27+AL26 -> 0 | AM27: 11 | AP27: =IF($AP$16>AM27,AK27,IF($AP$16=AM27,SUM(C27:INDIRECT(ADDRESS(AR27,$AL$16+2,4,1),1)),0)) -> 0 | AR27: =ROW(AM27) -> 27
B28: Diciembre | AI28: sábado | AJ28: domingo | AK28: =SUM(C28:AG28) -> 0 | AL28: =+AK28+AL27 -> 0 | AM28: 12 | AP28: =IF($AP$16>AM28,AK28,IF($AP$16=AM28,SUM(C28:INDIRECT(ADDRESS(AR28,$AL$16+2,4,1),1)),0)) -> 0 | AR28: =ROW(AM28) -> 28

Sheet 22
B2: ="Hoja de vacaciones 2026: "&resumen!B33&"" -> Hoja de vacaciones 2026: 22 | X2: =+resumen!E5 -> INDICATOR | AI2: Ç
AF3: 46022 | AG3: 46387 | AL3: Máximo días permitidos
J4: =+resumen!E10 -> A fecha de hoy 15.12.2025. | V4: =+resumen!H10 -> A fecha de 31.12.2026 | AL4: =+V6+G6 -> 30
B5: Vacaciones anuales | D5: Fecha alta | G5: Días pdtes. | J5: Devengados | N5: Realizados | R5: Saldo | V5: Devengados | Z5: Realizados | AD5: Saldo | AL5: =+AL4 -> 30
B6: =+resumen!J6 -> 30 | D6: =+resumen!C33 -> 0 | G6: =+resumen!D33 -> 0 | J6: =MAX(0,(TODAY()-MAX(AF3,D6))/365*B6) -> 0 | N6: =SUM(AP17:AP28) -> 0 | R6: =+G6+J6-N6 -> 0 | V6: =(AG3-MAX(AF3,D6))/365*B6 -> 30 | Z6: =SUM(C17:AG28) -> 0 | AD6: =+V6-Z6+G6 -> 30 | AL6: =+AL5 -> 30
AL7: =+AL6 -> 30
AL8: =+AL7 -> 30
AL9: =+AL8 -> 30
AL10: =+AL9 -> 30
AL11: =+AL10 -> 30
AL12: =+AL11 -> 30
AL13: =+AL12 -> 30
AL14: =+AL13 -> 30
AL15: =+AL14 -> 30
B16: 2026 | C16: 1 | D16: 2 | E16: 3 | F16: 4 | G16: 5 | H16: 6 | I16: 7 | J16: 8 | K16: 9 | L16: 10 | M16: 11 | N16: 12 | O16: 13 | P16: 14 | Q16: 15 | R16: 16 | S16: 17 | T16: 18 | U16: 19 | V16: 20 | W16: 21 | X16: 22 | Y16: 23 | Z16: 24 | AA16: 25 | AB16: 26 | AC16: 27 | AD16: 28 | AE16: 29 | AF16: 30 | AG16: 31 | AI16: i | AK16: =MAX(41274,TODAY()) -> 46006 | AL16: =DAY(AK16) -> 15 | AP16: =MONTH(AK16) -> 12
B17: Enero | AK17: =SUM(C17:AG17) -> 0 | AL17: =+AK17 -> 0 | AM17: 1 | AP17: =IF($AP$16>AM17,AK17,IF($AP$16=AM17,SUM(C17:INDIRECT(ADDRESS(AR17,$AL$16+2,4,1),1)),0)) -> 0 | AR17: =ROW(AM17) -> 17
B18: Febrero | AK18: =SUM(C18:AG18) -> 0 | AL18: =+AK18+AL17 -> 0 | AM18: 2 | AP18: =IF($AP$16>AM18,AK18,IF($AP$16=AM18,SUM(C18:INDIRECT(ADDRESS(AR18,$AL$16+2,4,1),1)),0)) -> 0 | AR18: =ROW(AM18) -> 18
B19: Marzo | AK19: =SUM(C19:AG19) -> 0 | AL19: =+AK19+AL18 -> 0 | AM19: 3 | AP19: =IF($AP$16>AM19,AK19,IF($AP$16=AM19,SUM(C19:INDIRECT(ADDRESS(AR19,$AL$16+2,4,1),1)),0)) -> 0 | AR19: =ROW(AM19) -> 19
B20: Abril | AK20: =SUM(C20:AG20) -> 0 | AL20: =+AK20+AL19 -> 0 | AM20: 4 | AP20: =IF($AP$16>AM20,AK20,IF($AP$16=AM20,SUM(C20:INDIRECT(ADDRESS(AR20,$AL$16+2,4,1),1)),0)) -> 0 | AR20: =ROW(AM20) -> 20
B21: Mayo | AK21: =SUM(C21:AG21) -> 0 | AL21: =+AK21+AL20 -> 0 | AM21: 5 | AP21: =IF($AP$16>AM21,AK21,IF($AP$16=AM21,SUM(C21:INDIRECT(ADDRESS(AR21,$AL$16+2,4,1),1)),0)) -> 0 | AR21: =ROW(AM21) -> 21
B22: Junio | AK22: =SUM(C22:AG22) -> 0 | AL22: =+AK22+AL21 -> 0 | AM22: 6 | AP22: =IF($AP$16>AM22,AK22,IF($AP$16=AM22,SUM(C22:INDIRECT(ADDRESS(AR22,$AL$16+2,4,1),1)),0)) -> 0 | AR22: =ROW(AM22) -> 22
B23: Julio | AK23: =SUM(C23:AG23) -> 0 | AL23: =+AK23+AL22 -> 0 | AM23: 7 | AP23: =IF($AP$16>AM23,AK23,IF($AP$16=AM23,SUM(C23:INDIRECT(ADDRESS(AR23,$AL$16+2,4,1),1)),0)) -> 0 | AR23: =ROW(AM23) -> 23
B24: Agosto | AK24: =SUM(C24:AG24) -> 0 | AL24: =+AK24+AL23 -> 0 | AM24: 8 | AP24: =IF($AP$16>AM24,AK24,IF($AP$16=AM24,SUM(C24:INDIRECT(ADDRESS(AR24,$AL$16+2,4,1),1)),0)) -> 0 | AR24: =ROW(AM24) -> 24
B25: Septiembre | AK25: =SUM(C25:AG25) -> 0 | AL25: =+AK25+AL24 -> 0 | AM25: 9 | AP25: =IF($AP$16>AM25,AK25,IF($AP$16=AM25,SUM(C25:INDIRECT(ADDRESS(AR25,$AL$16+2,4,1),1)),0)) -> 0 | AR25: =ROW(AM25) -> 25
B26: Octubre | AK26: =SUM(C26:AG26) -> 0 | AL26: =+AK26+AL25 -> 0 | AM26: 10 | AP26: =IF($AP$16>AM26,AK26,IF($AP$16=AM26,SUM(C26:INDIRECT(ADDRESS(AR26,$AL$16+2,4,1),1)),0)) -> 0 | AR26: =ROW(AM26) -> 26
B27: Noviembre | AK27: =SUM(C27:AG27) -> 0 | AL27: =+AK27+AL26 -> 0 | AM27: 11 | AP27: =IF($AP$16>AM27,AK27,IF($AP$16=AM27,SUM(C27:INDIRECT(ADDRESS(AR27,$AL$16+2,4,1),1)),0)) -> 0 | AR27: =ROW(AM27) -> 27
B28: Diciembre | AI28: sábado | AJ28: domingo | AK28: =SUM(C28:AG28) -> 0 | AL28: =+AK28+AL27 -> 0 | AM28: 12 | AP28: =IF($AP$16>AM28,AK28,IF($AP$16=AM28,SUM(C28:INDIRECT(ADDRESS(AR28,$AL$16+2,4,1),1)),0)) -> 0 | AR28: =ROW(AM28) -> 28

Sheet 23
B2: ="Hoja de vacaciones 2026: "&resumen!B34&"" -> Hoja de vacaciones 2026: 23 | X2: =+resumen!E5 -> INDICATOR | AI2: Ç
AF3: 46022 | AG3: 46387 | AL3: Máximo días permitidos
J4: =+resumen!E10 -> A fecha de hoy 15.12.2025. | V4: =+resumen!H10 -> A fecha de 31.12.2026 | AL4: =+V6+G6 -> 30
B5: Vacaciones anuales | D5: Fecha alta | G5: Días pdtes. | J5: Devengados | N5: Realizados | R5: Saldo | V5: Devengados | Z5: Realizados | AD5: Saldo | AL5: =+AL4 -> 30
B6: =+resumen!J6 -> 30 | D6: =+resumen!C34 -> 0 | G6: =+resumen!D34 -> 0 | J6: =MAX(0,(TODAY()-MAX(AF3,D6))/365*B6) -> 0 | N6: =SUM(AP17:AP28) -> 0 | R6: =+G6+J6-N6 -> 0 | V6: =(AG3-MAX(AF3,D6))/365*B6 -> 30 | Z6: =SUM(C17:AG28) -> 0 | AD6: =+V6-Z6+G6 -> 30 | AL6: =+AL5 -> 30
AL7: =+AL6 -> 30
AL8: =+AL7 -> 30
AL9: =+AL8 -> 30
AL10: =+AL9 -> 30
AL11: =+AL10 -> 30
AL12: =+AL11 -> 30
AL13: =+AL12 -> 30
AL14: =+AL13 -> 30
AL15: =+AL14 -> 30
B16: 2026 | C16: 1 | D16: 2 | E16: 3 | F16: 4 | G16: 5 | H16: 6 | I16: 7 | J16: 8 | K16: 9 | L16: 10 | M16: 11 | N16: 12 | O16: 13 | P16: 14 | Q16: 15 | R16: 16 | S16: 17 | T16: 18 | U16: 19 | V16: 20 | W16: 21 | X16: 22 | Y16: 23 | Z16: 24 | AA16: 25 | AB16: 26 | AC16: 27 | AD16: 28 | AE16: 29 | AF16: 30 | AG16: 31 | AI16: i | AK16: =MAX(41274,TODAY()) -> 46006 | AL16: =DAY(AK16) -> 15 | AP16: =MONTH(AK16) -> 12
B17: Enero | AK17: =SUM(C17:AG17) -> 0 | AL17: =+AK17 -> 0 | AM17: 1 | AP17: =IF($AP$16>AM17,AK17,IF($AP$16=AM17,SUM(C17:INDIRECT(ADDRESS(AR17,$AL$16+2,4,1),1)),0)) -> 0 | AR17: =ROW(AM17) -> 17
B18: Febrero | AK18: =SUM(C18:AG18) -> 0 | AL18: =+AK18+AL17 -> 0 | AM18: 2 | AP18: =IF($AP$16>AM18,AK18,IF($AP$16=AM18,SUM(C18:INDIRECT(ADDRESS(AR18,$AL$16+2,4,1),1)),0)) -> 0 | AR18: =ROW(AM18) -> 18
B19: Marzo | AK19: =SUM(C19:AG19) -> 0 | AL19: =+AK19+AL18 -> 0 | AM19: 3 | AP19: =IF($AP$16>AM19,AK19,IF($AP$16=AM19,SUM(C19:INDIRECT(ADDRESS(AR19,$AL$16+2,4,1),1)),0)) -> 0 | AR19: =ROW(AM19) -> 19
B20: Abril | AK20: =SUM(C20:AG20) -> 0 | AL20: =+AK20+AL19 -> 0 | AM20: 4 | AP20: =IF($AP$16>AM20,AK20,IF($AP$16=AM20,SUM(C20:INDIRECT(ADDRESS(AR20,$AL$16+2,4,1),1)),0)) -> 0 | AR20: =ROW(AM20) -> 20
B21: Mayo | AK21: =SUM(C21:AG21) -> 0 | AL21: =+AK21+AL20 -> 0 | AM21: 5 | AP21: =IF($AP$16>AM21,AK21,IF($AP$16=AM21,SUM(C21:INDIRECT(ADDRESS(AR21,$AL$16+2,4,1),1)),0)) -> 0 | AR21: =ROW(AM21) -> 21
B22: Junio | AK22: =SUM(C22:AG22) -> 0 | AL22: =+AK22+AL21 -> 0 | AM22: 6 | AP22: =IF($AP$16>AM22,AK22,IF($AP$16=AM22,SUM(C22:INDIRECT(ADDRESS(AR22,$AL$16+2,4,1),1)),0)) -> 0 | AR22: =ROW(AM22) -> 22
B23: Julio | AK23: =SUM(C23:AG23) -> 0 | AL23: =+AK23+AL22 -> 0 | AM23: 7 | AP23: =IF($AP$16>AM23,AK23,IF($AP$16=AM23,SUM(C23:INDIRECT(ADDRESS(AR23,$AL$16+2,4,1),1)),0)) -> 0 | AR23: =ROW(AM23) -> 23
B24: Agosto | AK24: =SUM(C24:AG24) -> 0 | AL24: =+AK24+AL23 -> 0 | AM24: 8 | AP24: =IF($AP$16>AM24,AK24,IF($AP$16=AM24,SUM(C24:INDIRECT(ADDRESS(AR24,$AL$16+2,4,1),1)),0)) -> 0 | AR24: =ROW(AM24) -> 24
B25: Septiembre | AK25: =SUM(C25:AG25) -> 0 | AL25: =+AK25+AL24 -> 0 | AM25: 9 | AP25: =IF($AP$16>AM25,AK25,IF($AP$16=AM25,SUM(C25:INDIRECT(ADDRESS(AR25,$AL$16+2,4,1),1)),0)) -> 0 | AR25: =ROW(AM25) -> 25
B26: Octubre | AK26: =SUM(C26:AG26) -> 0 | AL26: =+AK26+AL25 -> 0 | AM26: 10 | AP26: =IF($AP$16>AM26,AK26,IF($AP$16=AM26,SUM(C26:INDIRECT(ADDRESS(AR26,$AL$16+2,4,1),1)),0)) -> 0 | AR26: =ROW(AM26) -> 26
B27: Noviembre | AK27: =SUM(C27:AG27) -> 0 | AL27: =+AK27+AL26 -> 0 | AM27: 11 | AP27: =IF($AP$16>AM27,AK27,IF($AP$16=AM27,SUM(C27:INDIRECT(ADDRESS(AR27,$AL$16+2,4,1),1)),0)) -> 0 | AR27: =ROW(AM27) -> 27
B28: Diciembre | AI28: sábado | AJ28: domingo | AK28: =SUM(C28:AG28) -> 0 | AL28: =+AK28+AL27 -> 0 | AM28: 12 | AP28: =IF($AP$16>AM28,AK28,IF($AP$16=AM28,SUM(C28:INDIRECT(ADDRESS(AR28,$AL$16+2,4,1),1)),0)) -> 0 | AR28: =ROW(AM28) -> 28

Sheet 24
B2: ="Hoja de vacaciones 2026: "&resumen!B35&"" -> Hoja de vacaciones 2026: 24 | X2: =+resumen!E5 -> INDICATOR | AI2: Ç
AF3: 46022 | AG3: 46387 | AL3: Máximo días permitidos
J4: =+resumen!E10 -> A fecha de hoy 15.12.2025. | V4: =+resumen!H10 -> A fecha de 31.12.2026 | AL4: =+V6+G6 -> 30
B5: Vacaciones anuales | D5: Fecha alta | G5: Días pdtes. | J5: Devengados | N5: Realizados | R5: Saldo | V5: Devengados | Z5: Realizados | AD5: Saldo | AL5: =+AL4 -> 30
B6: =+resumen!J6 -> 30 | D6: =+resumen!C35 -> 0 | G6: =+resumen!D35 -> 0 | J6: =MAX(0,(TODAY()-MAX(AF3,D6))/365*B6) -> 0 | N6: =SUM(AP17:AP28) -> 0 | R6: =+G6+J6-N6 -> 0 | V6: =(AG3-MAX(AF3,D6))/365*B6 -> 30 | Z6: =SUM(C17:AG28) -> 0 | AD6: =+V6-Z6+G6 -> 30 | AL6: =+AL5 -> 30
AL7: =+AL6 -> 30
AL8: =+AL7 -> 30
AL9: =+AL8 -> 30
AL10: =+AL9 -> 30
AL11: =+AL10 -> 30
AL12: =+AL11 -> 30
AL13: =+AL12 -> 30
AL14: =+AL13 -> 30
AL15: =+AL14 -> 30
B16: 2026 | C16: 1 | D16: 2 | E16: 3 | F16: 4 | G16: 5 | H16: 6 | I16: 7 | J16: 8 | K16: 9 | L16: 10 | M16: 11 | N16: 12 | O16: 13 | P16: 14 | Q16: 15 | R16: 16 | S16: 17 | T16: 18 | U16: 19 | V16: 20 | W16: 21 | X16: 22 | Y16: 23 | Z16: 24 | AA16: 25 | AB16: 26 | AC16: 27 | AD16: 28 | AE16: 29 | AF16: 30 | AG16: 31 | AI16: i | AK16: =MAX(41274,TODAY()) -> 46006 | AL16: =DAY(AK16) -> 15 | AP16: =MONTH(AK16) -> 12
B17: Enero | AK17: =SUM(C17:AG17) -> 0 | AL17: =+AK17 -> 0 | AM17: 1 | AP17: =IF($AP$16>AM17,AK17,IF($AP$16=AM17,SUM(C17:INDIRECT(ADDRESS(AR17,$AL$16+2,4,1),1)),0)) -> 0 | AR17: =ROW(AM17) -> 17
B18: Febrero | AK18: =SUM(C18:AG18) -> 0 | AL18: =+AK18+AL17 -> 0 | AM18: 2 | AP18: =IF($AP$16>AM18,AK18,IF($AP$16=AM18,SUM(C18:INDIRECT(ADDRESS(AR18,$AL$16+2,4,1),1)),0)) -> 0 | AR18: =ROW(AM18) -> 18
B19: Marzo | AK19: =SUM(C19:AG19) -> 0 | AL19: =+AK19+AL18 -> 0 | AM19: 3 | AP19: =IF($AP$16>AM19,AK19,IF($AP$16=AM19,SUM(C19:INDIRECT(ADDRESS(AR19,$AL$16+2,4,1),1)),0)) -> 0 | AR19: =ROW(AM19) -> 19
B20: Abril | AK20: =SUM(C20:AG20) -> 0 | AL20: =+AK20+AL19 -> 0 | AM20: 4 | AP20: =IF($AP$16>AM20,AK20,IF($AP$16=AM20,SUM(C20:INDIRECT(ADDRESS(AR20,$AL$16+2,4,1),1)),0)) -> 0 | AR20: =ROW(AM20) -> 20
B21: Mayo | AK21: =SUM(C21:AG21) -> 0 | AL21: =+AK21+AL20 -> 0 | AM21: 5 | AP21: =IF($AP$16>AM21,AK21,IF($AP$16=AM21,SUM(C21:INDIRECT(ADDRESS(AR21,$AL$16+2,4,1),1)),0)) -> 0 | AR21: =ROW(AM21) -> 21
B22: Junio | AK22: =SUM(C22:AG22) -> 0 | AL22: =+AK22+AL21 -> 0 | AM22: 6 | AP22: =IF($AP$16>AM22,AK22,IF($AP$16=AM22,SUM(C22:INDIRECT(ADDRESS(AR22,$AL$16+2,4,1),1)),0)) -> 0 | AR22: =ROW(AM22) -> 22
B23: Julio | AK23: =SUM(C23:AG23) -> 0 | AL23: =+AK23+AL22 -> 0 | AM23: 7 | AP23: =IF($AP$16>AM23,AK23,IF($AP$16=AM23,SUM(C23:INDIRECT(ADDRESS(AR23,$AL$16+2,4,1),1)),0)) -> 0 | AR23: =ROW(AM23) -> 23
B24: Agosto | AK24: =SUM(C24:AG24) -> 0 | AL24: =+AK24+AL23 -> 0 | AM24: 8 | AP24: =IF($AP$16>AM24,AK24,IF($AP$16=AM24,SUM(C24:INDIRECT(ADDRESS(AR24,$AL$16+2,4,1),1)),0)) -> 0 | AR24: =ROW(AM24) -> 24
B25: Septiembre | AK25: =SUM(C25:AG25) -> 0 | AL25: =+AK25+AL24 -> 0 | AM25: 9 | AP25: =IF($AP$16>AM25,AK25,IF($AP$16=AM25,SUM(C25:INDIRECT(ADDRESS(AR25,$AL$16+2,4,1),1)),0)) -> 0 | AR25: =ROW(AM25) -> 25
B26: Octubre | AK26: =SUM(C26:AG26) -> 0 | AL26: =+AK26+AL25 -> 0 | AM26: 10 | AP26: =IF($AP$16>AM26,AK26,IF($AP$16=AM26,SUM(C26:INDIRECT(ADDRESS(AR26,$AL$16+2,4,1),1)),0)) -> 0 | AR26: =ROW(AM26) -> 26
B27: Noviembre | AK27: =SUM(C27:AG27) -> 0 | AL27: =+AK27+AL26 -> 0 | AM27: 11 | AP27: =IF($AP$16>AM27,AK27,IF($AP$16=AM27,SUM(C27:INDIRECT(ADDRESS(AR27,$AL$16+2,4,1),1)),0)) -> 0 | AR27: =ROW(AM27) -> 27
B28: Diciembre | AI28: sábado | AJ28: domingo | AK28: =SUM(C28:AG28) -> 0 | AL28: =+AK28+AL27 -> 0 | AM28: 12 | AP28: =IF($AP$16>AM28,AK28,IF($AP$16=AM28,SUM(C28:INDIRECT(ADDRESS(AR28,$AL$16+2,4,1),1)),0)) -> 0 | AR28: =ROW(AM28) -> 28

Sheet 25
B2: ="Hoja de vacaciones 2026: "&resumen!B36&"" -> Hoja de vacaciones 2026: 25 | X2: =+resumen!E5 -> INDICATOR | AI2: Ç
AF3: 46022 | AG3: 46387 | AL3: Máximo días permitidos
J4: =+resumen!E10 -> A fecha de hoy 15.12.2025. | V4: =+resumen!H10 -> A fecha de 31.12.2026 | AL4: =+V6+G6 -> 30
B5: Vacaciones anuales | D5: Fecha alta | G5: Días pdtes. | J5: Devengados | N5: Realizados | R5: Saldo | V5: Devengados | Z5: Realizados | AD5: Saldo | AL5: =+AL4 -> 30
B6: =+resumen!J6 -> 30 | D6: =+resumen!C36 -> 0 | G6: =+resumen!D36 -> 0 | J6: =MAX(0,(TODAY()-MAX(AF3,D6))/365*B6) -> 0 | N6: =SUM(AP17:AP28) -> 0 | R6: =+G6+J6-N6 -> 0 | V6: =(AG3-MAX(AF3,D6))/365*B6 -> 30 | Z6: =SUM(C17:AG28) -> 0 | AD6: =+V6-Z6+G6 -> 30 | AL6: =+AL5 -> 30
AL7: =+AL6 -> 30
AL8: =+AL7 -> 30
AL9: =+AL8 -> 30
AL10: =+AL9 -> 30
AL11: =+AL10 -> 30
AL12: =+AL11 -> 30
AL13: =+AL12 -> 30
AL14: =+AL13 -> 30
AL15: =+AL14 -> 30
B16: 2026 | C16: 1 | D16: 2 | E16: 3 | F16: 4 | G16: 5 | H16: 6 | I16: 7 | J16: 8 | K16: 9 | L16: 10 | M16: 11 | N16: 12 | O16: 13 | P16: 14 | Q16: 15 | R16: 16 | S16: 17 | T16: 18 | U16: 19 | V16: 20 | W16: 21 | X16: 22 | Y16: 23 | Z16: 24 | AA16: 25 | AB16: 26 | AC16: 27 | AD16: 28 | AE16: 29 | AF16: 30 | AG16: 31 | AI16: i | AK16: =MAX(41274,TODAY()) -> 46006 | AL16: =DAY(AK16) -> 15 | AP16: =MONTH(AK16) -> 12
B17: Enero | AK17: =SUM(C17:AG17) -> 0 | AL17: =+AK17 -> 0 | AM17: 1 | AP17: =IF($AP$16>AM17,AK17,IF($AP$16=AM17,SUM(C17:INDIRECT(ADDRESS(AR17,$AL$16+2,4,1),1)),0)) -> 0 | AR17: =ROW(AM17) -> 17
B18: Febrero | AK18: =SUM(C18:AG18) -> 0 | AL18: =+AK18+AL17 -> 0 | AM18: 2 | AP18: =IF($AP$16>AM18,AK18,IF($AP$16=AM18,SUM(C18:INDIRECT(ADDRESS(AR18,$AL$16+2,4,1),1)),0)) -> 0 | AR18: =ROW(AM18) -> 18
B19: Marzo | AK19: =SUM(C19:AG19) -> 0 | AL19: =+AK19+AL18 -> 0 | AM19: 3 | AP19: =IF($AP$16>AM19,AK19,IF($AP$16=AM19,SUM(C19:INDIRECT(ADDRESS(AR19,$AL$16+2,4,1),1)),0)) -> 0 | AR19: =ROW(AM19) -> 19
B20: Abril | AK20: =SUM(C20:AG20) -> 0 | AL20: =+AK20+AL19 -> 0 | AM20: 4 | AP20: =IF($AP$16>AM20,AK20,IF($AP$16=AM20,SUM(C20:INDIRECT(ADDRESS(AR20,$AL$16+2,4,1),1)),0)) -> 0 | AR20: =ROW(AM20) -> 20
B21: Mayo | AK21: =SUM(C21:AG21) -> 0 | AL21: =+AK21+AL20 -> 0 | AM21: 5 | AP21: =IF($AP$16>AM21,AK21,IF($AP$16=AM21,SUM(C21:INDIRECT(ADDRESS(AR21,$AL$16+2,4,1),1)),0)) -> 0 | AR21: =ROW(AM21) -> 21
B22: Junio | AK22: =SUM(C22:AG22) -> 0 | AL22: =+AK22+AL21 -> 0 | AM22: 6 | AP22: =IF($AP$16>AM22,AK22,IF($AP$16=AM22,SUM(C22:INDIRECT(ADDRESS(AR22,$AL$16+2,4,1),1)),0)) -> 0 | AR22: =ROW(AM22) -> 22
B23: Julio | AK23: =SUM(C23:AG23) -> 0 | AL23: =+AK23+AL22 -> 0 | AM23: 7 | AP23: =IF($AP$16>AM23,AK23,IF($AP$16=AM23,SUM(C23:INDIRECT(ADDRESS(AR23,$AL$16+2,4,1),1)),0)) -> 0 | AR23: =ROW(AM23) -> 23
B24: Agosto | AK24: =SUM(C24:AG24) -> 0 | AL24: =+AK24+AL23 -> 0 | AM24: 8 | AP24: =IF($AP$16>AM24,AK24,IF($AP$16=AM24,SUM(C24:INDIRECT(ADDRESS(AR24,$AL$16+2,4,1),1)),0)) -> 0 | AR24: =ROW(AM24) -> 24
B25: Septiembre | AK25: =SUM(C25:AG25) -> 0 | AL25: =+AK25+AL24 -> 0 | AM25: 9 | AP25: =IF($AP$16>AM25,AK25,IF($AP$16=AM25,SUM(C25:INDIRECT(ADDRESS(AR25,$AL$16+2,4,1),1)),0)) -> 0 | AR25: =ROW(AM25) -> 25
B26: Octubre | AK26: =SUM(C26:AG26) -> 0 | AL26: =+AK26+AL25 -> 0 | AM26: 10 | AP26: =IF($AP$16>AM26,AK26,IF($AP$16=AM26,SUM(C26:INDIRECT(ADDRESS(AR26,$AL$16+2,4,1),1)),0)) -> 0 | AR26: =ROW(AM26) -> 26
B27: Noviembre | AK27: =SUM(C27:AG27) -> 0 | AL27: =+AK27+AL26 -> 0 | AM27: 11 | AP27: =IF($AP$16>AM27,AK27,IF($AP$16=AM27,SUM(C27:INDIRECT(ADDRESS(AR27,$AL$16+2,4,1),1)),0)) -> 0 | AR27: =ROW(AM27) -> 27
B28: Diciembre | AI28: sábado | AJ28: domingo | AK28: =SUM(C28:AG28) -> 0 | AL28: =+AK28+AL27 -> 0 | AM28: 12 | AP28: =IF($AP$16>AM28,AK28,IF($AP$16=AM28,SUM(C28:INDIRECT(ADDRESS(AR28,$AL$16+2,4,1),1)),0)) -> 0 | AR28: =ROW(AM28) -> 28

Sheet hidden_updatedata
A1: kt_53183_224924_224921
A3: 7.2 | B3: http://check.indicator.com/is_tool_updated.php
